BEGIN:VCALENDAR
VERSION:2.0
CALSCALE:GREGORIAN
METHOD:PUBLISH
PRODID://CNTW//380050
BEGIN:VEVENT
DTSTAMP:20260421T154354
VTIMEZONE:America/New_York
DTSTART:20250115T160000Z
DTEND:20250116T044500Z
UID:380050
SUMMARY:CSWEA Webinar: Implementation of Primary Sludge and Biomass Fermentation
LOCATION:
DESCRIPTION:CSWEA Webinar: Implementation of Primary Sludge and Biomass Fermentation\n\n01/15/25 11:00 AM EST\n - 01/15/25 11:45 PM EST\Description:\n1.0 CEUs for IL, MN, WI Operators | 1.2 PDHs for all PEs\n\nREGISTER TODAY! \n\nWednesday January 15th – 11:00 AM\n\nCOST:\n$35 – Non-Members\n$25 – Members (Discount Code: CSWEA)\n$15 – Student (Discount Code: Student)\n$15 – International (Discount Code: International)
X-ALT-DESC;FMTTYPE=text/html:CSWEA Webinar: Implementation of Primary Sludge and Biomass Fermentation<br /><br />01/15/25 11:00 AM EST - 01/15/25 11:45 PM EST<br />Description:<br />1.0 CEUs for IL, MN, WI Operators | 1.2 PDHs for all PEs<br />
<br />
REGISTER TODAY!&nbsp;<br />
<br />
Wednesday January 15th &ndash; 11:00 AM<br />
<br />
COST:<br />
$35 &ndash; Non-Members<br />
$25 &ndash; Members (Discount Code: CSWEA)<br />
$15 &ndash; Student (Discount Code: Student)<br />
$15 &ndash; International (Discount Code: International)
PRIORITY:3
TRANSP:TRANSPARENT
BEGIN:VALARM
TRIGGER:-PT5M
ACTION:DISPLAY
DESCRIPTION:Reminder
END:VALARM
END:VEVENT
END:VCALENDAR
