BEGIN:VCALENDAR
VERSION:2.0
CALSCALE:GREGORIAN
METHOD:PUBLISH
PRODID://CNTW//380051
BEGIN:VEVENT
DTSTAMP:20260421T171159
VTIMEZONE:America/New_York
DTSTART:20250122T160000Z
DTEND:20250123T044500Z
UID:380051
SUMMARY:CSWEA Webinar: Instrumentation & Controls for Process Engineers & Operators
LOCATION:
DESCRIPTION:CSWEA Webinar: Instrumentation & Controls for Process Engineers & Operators\n\n01/22/25 11:00 AM EST\n - 01/22/25 11:45 PM EST\Description:\n3.0 CEUs for IL, MN, WI Operators | 3.6 PDHs for all PEs\n\n2 PART WEBINAR! \n\nWednesday January 22nd & 29th\n\nCOST:\n$70 – Non-Members\n$50 – Members (Discount Code: CSWEA)\n$15 – Student (Discount Code: Student)\n$15 – International (Discount Code: International)
X-ALT-DESC;FMTTYPE=text/html:CSWEA Webinar: Instrumentation & Controls for Process Engineers & Operators<br /><br />01/22/25 11:00 AM EST - 01/22/25 11:45 PM EST<br />Description:<br />3.0 CEUs for IL, MN, WI Operators | 3.6 PDHs for all PEs<br />
<br />
2 PART WEBINAR!&nbsp;<br />
<br />
Wednesday January 22nd &amp; 29th<br />
<br />
COST:<br />
$70 &ndash; Non-Members<br />
$50 &ndash; Members (Discount Code: CSWEA)<br />
$15 &ndash; Student (Discount Code: Student)<br />
$15 &ndash; International (Discount Code: International)
PRIORITY:3
TRANSP:TRANSPARENT
BEGIN:VALARM
TRIGGER:-PT5M
ACTION:DISPLAY
DESCRIPTION:Reminder
END:VALARM
END:VEVENT
END:VCALENDAR
