BEGIN:VCALENDAR
VERSION:2.0
CALSCALE:GREGORIAN
METHOD:PUBLISH
PRODID://CNTW//382317
BEGIN:VEVENT
DTSTAMP:20260421T171229
VTIMEZONE:America/New_York
DTSTART:20250122T170000Z
DTEND:20250122T183000Z
UID:382317
SUMMARY:CSWEA Webinar: Implementation of Primary Sludge and Biomass Fermentation
LOCATION:
DESCRIPTION:CSWEA Webinar: Implementation of Primary Sludge and Biomass Fermentation\n\n01/22/25 12:00 PM EST\n - 01/22/25 01:30 PM EST\Description:\n1.0 CEUs for IL, MN, WI Operators | 1.2 PDHs for all PEs\n\nEvent Details:\n2 PART WEBINAR! \n\nWednesday January 22nd & 29th\n\nCOST:\n\n	$70 – Non-Members\n	$50 – Members (Discount Code: CSWEA)\n	$15 – Student (Discount Code: Student)\n	$15 – International (Discount Code: International)\n\n\nInfo\n\nPRESENTED BY: STEVEN REUSSER 
X-ALT-DESC;FMTTYPE=text/html:CSWEA Webinar: Implementation of Primary Sludge and Biomass Fermentation<br /><br />01/22/25 12:00 PM EST - 01/22/25 01:30 PM EST<br />Description:<br />1.0 CEUs for IL, MN, WI Operators | 1.2 PDHs for all PEs<br />
<br />
<strong>Event Details:</strong><br />
2 PART WEBINAR!&nbsp;<br />
<br />
Wednesday January 22nd &amp; 29th<br />
<br />
COST:
<ul>
	<li>$70 &ndash; Non-Members</li>
	<li>$50 &ndash; Members (Discount Code: CSWEA)</li>
	<li>$15 &ndash; Student (Discount Code: Student)</li>
	<li>$15 &ndash; International (Discount Code: International)</li>
</ul>
<br />
<a href="https://host10.viethwebhosting.com/~cntw/docs/CSWEA-Webinar-Instrumentation_Controls_1_22_25.pdf">Info</a><br />
<br />
PRESENTED BY: STEVEN REUSSER&nbsp;
PRIORITY:3
TRANSP:TRANSPARENT
BEGIN:VALARM
TRIGGER:-PT5M
ACTION:DISPLAY
DESCRIPTION:Reminder
END:VALARM
END:VEVENT
END:VCALENDAR
