BEGIN:VCALENDAR
VERSION:2.0
CALSCALE:GREGORIAN
METHOD:PUBLISH
PRODID://CNTW//464255
BEGIN:VEVENT
DTSTAMP:20260421T171053
VTIMEZONE:America/Chicago
DTSTART:20251106T203000Z
DTEND:20251106T220000Z
UID:464255
SUMMARY:November 2025 CSWEA WI Section Meeting
LOCATION:Madison Metro- TBD on Room, 1610 Moorland Rd, Madison, WI, 53713
DESCRIPTION:November 2025 CSWEA WI Section Meeting\n\n11/06/25 02:30 PM CST\n - 11/06/25 04:00 PM CST\Description:\nThursday, November 6, 2025, 2:30pm - 4pm\nMadison Metro- TBD on Room, 1610 Moorland Rd, Madison, WI 53713\n\nHappy hour to follow after meeting at:\nWaypoint Public House\n320 Broadway E.\nMonona, WI 53716\n \n\n \n\nJoin Virtually\n\n \n\nMeeting ID: 229 709 687 870 4\n\nPasscode: cn2or94M\n \n\n\nDial in by phone\n\n+1 469-998-7597,,819615904# United States, Dallas\n\nFind a local number\n\n\nPhone conference ID: 819 615 904#\n\Location:\nMadison Metro- TBD on Room\n1610 Moorland Rd\nMadison, WI 53713
X-ALT-DESC;FMTTYPE=text/html:November 2025 CSWEA WI Section Meeting<br /><br />11/06/25 02:30 PM CST - 11/06/25 04:00 PM CST<br />Description:<br /><strong>Thursday, November 6, 2025, 2:30pm - 4pm<br />
Madison Metro- TBD on Room,&nbsp;1610 Moorland Rd,&nbsp;Madison, WI 53713</strong><br />
<br />
Happy hour to follow after meeting at:<br />
Waypoint Public House<br />
320 Broadway E.<br />
Monona, WI 53716
<div>&nbsp;</div>

<div>&nbsp;</div>

<div><a href="http://teams.microsoft.com/l/meetup-join/19%3ameeting_MzJhOTkxYTItZTcxMS00MzY2LWIzYjAtYmMxMWJhZTI5ODI2%40thread.v2/0?context=%7b%22Tid%22%3a%2241803075-2931-4eff-a1f1-cfa2621ba492%22%2c%22Oid%22%3a%22acf530db-6323-43d3-8051-699adc2a01c8%22%7d" target="_blank"><span style="color:#0000FF"><strong>Join&nbsp;</strong></span></a><strong><a href="http://teams.microsoft.com/l/meetup-join/19%3ameeting_MzJhOTkxYTItZTcxMS00MzY2LWIzYjAtYmMxMWJhZTI5ODI2%40thread.v2/0?context=%7b%22Tid%22%3a%2241803075-2931-4eff-a1f1-cfa2621ba492%22%2c%22Oid%22%3a%22acf530db-6323-43d3-8051-699adc2a01c8%22%7d" target="_blank"><span style="color:#0000FF">Virtually</span></a></strong></div>

<div>&nbsp;</div>

<div>Meeting ID:&nbsp;229 709 687 870 4</div>

<div>Passcode:&nbsp;cn2or94M</div>
&nbsp;

<div>
<div><strong>Dial in by phone</strong></div>

<div><strong><a href="tel:+14699987597,,819615904" target="_blank"><span style="color:#0000FF">+1 469-998-7597,,819615904#</span></a></strong>&nbsp;United States, Dallas</div>

<div><strong><a data-saferedirecturl="https://www.google.com/url?q=https://dialin.teams.microsoft.com/5fbe2586-9793-4d9b-89d1-40a045b0afc8?id%3D819615904&amp;source=gmail&amp;ust=1759593204809000&amp;usg=AOvVaw3PH4LpLZWrcNbJs_E3ck1E" href="https://dialin.teams.microsoft.com/5fbe2586-9793-4d9b-89d1-40a045b0afc8?id=819615904" target="_blank"><span style="color:#0000FF">Find a local number</span></a></strong></div>
</div>

<div>Phone conference ID:&nbsp;819 615 904#</div>
<br />Location:<br />Madison Metro- TBD on Room<br />1610 Moorland Rd<br />Madison, WI 53713
PRIORITY:3
TRANSP:TRANSPARENT
BEGIN:VALARM
TRIGGER:-PT5M
ACTION:DISPLAY
DESCRIPTION:Reminder
END:VALARM
END:VEVENT
END:VCALENDAR
