BEGIN:VCALENDAR
VERSION:2.0
CALSCALE:GREGORIAN
METHOD:PUBLISH
PRODID://CNTW//464256
BEGIN:VEVENT
DTSTAMP:20260421T183131
VTIMEZONE:America/Chicago
DTSTART:20251110T223000Z
DTEND:20251111T000000Z
UID:464256
SUMMARY:MN Stormwater Committee Event - Sip Of Science
LOCATION:Pryes Brewing Company, North Room, 1401 West River RD N, Minneapolis, MN, 55411
DESCRIPTION:MN Stormwater Committee Event - Sip Of Science\n\n11/10/25 04:30 PM CST\n - 11/10/25 06:00 PM CST\Description:\nFREE EVENT!\n\nMonday, November 10th, 4:30 - 6:00 pm\nPryes Brewing Company, North Room\n\nJoin us for an engaging science happy hour at Pyres Brewing, blending contemporary science with a lively social atmosphere.\n\n“A Sip of Science” offers a unique opportunity for adults to exchange ideas and opinions about science and its impact on our world—all over a refreshing beer. For the first CSWEA hosted event, we are happy to have Andy Erickson, PhD, PE, the stormwater research manager at Saint Anthony Falls Laboratory. Andy will present research into the critical topic of extreme precipitation, exploring how shifting rainfall patterns and aging infrastructure contribute to urban flooding. Following the presentation, join us for an informal conversation to ask questions and discuss ideas.\nDon’t miss this chance to mingle, learn, and enjoy the best of science in a relaxed setting. See you there!\n\nPlease RSVP to Claire Connelly at Claire.Connelly@kimley-horn.com by October 31\Location:\nPryes Brewing Company, North Room\n1401 West River RD N\nMinneapolis, MN 55411
X-ALT-DESC;FMTTYPE=text/html:MN Stormwater Committee Event - Sip Of Science<br /><br />11/10/25 04:30 PM CST - 11/10/25 06:00 PM CST<br />Description:<br /><strong><span style="color:#FF0000">FREE EVENT!</span><br />
<br />
Monday, November 10th, 4:30 - 6:00 pm<br />
Pryes Brewing Company, North Room</strong><br />
<br />
Join us for an engaging science happy hour at Pyres Brewing, blending contemporary science with a lively social atmosphere.<br />
<br />
&ldquo;A Sip of Science&rdquo; offers a unique opportunity for adults to exchange ideas and opinions about science and its impact on our world&mdash;all over a refreshing beer. For the first CSWEA hosted event, we are happy to have Andy Erickson, PhD, PE, the stormwater research manager at Saint Anthony Falls Laboratory. Andy will present research into the critical topic of extreme precipitation, exploring how shifting rainfall patterns and aging infrastructure contribute to urban flooding. Following the presentation, join us for an informal conversation to ask questions and discuss ideas.<br />
Don&rsquo;t miss this chance to mingle, learn, and enjoy the best of science in a relaxed setting. See you there!<br />
<br />
<strong>Please RSVP to Claire Connelly at <a href="mailto:Claire.Connelly@kimley-horn.com"><span style="color:#0000FF">Claire.Connelly@kimley-horn.com</span></a> by October 31</strong><br />Location:<br />Pryes Brewing Company, North Room<br />1401 West River RD N<br />Minneapolis, MN 55411
PRIORITY:3
TRANSP:TRANSPARENT
BEGIN:VALARM
TRIGGER:-PT5M
ACTION:DISPLAY
DESCRIPTION:Reminder
END:VALARM
END:VEVENT
END:VCALENDAR
