BEGIN:VCALENDAR
VERSION:2.0
CALSCALE:GREGORIAN
METHOD:PUBLISH
PRODID://CNTW//464257
BEGIN:VEVENT
DTSTAMP:20260421T154721
VTIMEZONE:America/Chicago
DTSTART:20251118T143000Z
DTEND:20251118T203000Z
UID:464257
SUMMARY:2025 IL R2E2 Seminar
LOCATION:Fox Metro Water Reclamation District, 682 State Rte 31, Oswego, IL, 60543
DESCRIPTION:2025 IL R2E2 Seminar\n\n11/18/25 08:30 AM CST\n - 11/18/25 02:30 PM CST\Description:\nREGISTRATION NOW OPEN!\n\nNovember 18th, 2025\n \n\nA Day of Learning about the Latest Wastewater Topics in Biosolids, Energy and Environmental (Waste) Recovery\n \n\nWhere: Fox Metro Water Reclamation District, 682 State Rte 31, Oswego, IL 60543\n \n\nInfo | Agenda | Register\n \n\nFor questions, email chris.buckley@jacobs.com\n\Location:\nFox Metro Water Reclamation District\n682 State Rte 31\nOswego, IL 60543
X-ALT-DESC;FMTTYPE=text/html:2025 IL R2E2 Seminar<br /><br />11/18/25 08:30 AM CST - 11/18/25 02:30 PM CST<br />Description:<br /><p><font color="#ff0000"><strong>REGISTRATION NOW OPEN!</strong></font><br />
<br />
<strong>November 18th, 2025</strong><br />
&nbsp;</p>

<p>A Day of Learning about the Latest Wastewater Topics in Biosolids, Energy and Environmental (Waste) Recovery<br />
&nbsp;</p>

<p><strong>Where:</strong> <strong>Fox Metro Water Reclamation District, 682 State Rte 31, Oswego, IL 60543</strong><br />
&nbsp;</p>

<p><strong><a href="https://www.cswea.org/docs/CSWEA_ILLINOIS_R2E2_Seminar_ADVERTISEMENT_UPDATED.pdf" rel="noopener" target="_blank"><span style="color:#0000FF">Info</span></a> | <a href="https://www.cswea.org/docs/CSWEA_R2E2__Seminar_Agenda_2025_UPDATED.pdf" rel="noopener" target="_blank"><span style="color:#0000FF">Agenda</span></a> | <a href="https://cswea.wufoo.com/forms/2025-il-r2e2-seminar/" rel="noopener" target="_blank"><span style="color:#0000FF">Register</span></a></strong><br />
&nbsp;</p>

<p>For questions, email <strong><a href="mailto:chris.buckley@jacobs.com" rel="noopener" target="_blank"><span style="color:#0000FF">chris.buckley@jacobs.com</span></a></strong></p>
<br />Location:<br />Fox Metro Water Reclamation District<br />682 State Rte 31<br />Oswego, IL 60543
PRIORITY:3
TRANSP:TRANSPARENT
BEGIN:VALARM
TRIGGER:-PT5M
ACTION:DISPLAY
DESCRIPTION:Reminder
END:VALARM
END:VEVENT
END:VCALENDAR
