BEGIN:VCALENDAR
VERSION:2.0
CALSCALE:GREGORIAN
METHOD:PUBLISH
PRODID://CNTW//464258
BEGIN:VEVENT
DTSTAMP:20260421T170942
VTIMEZONE:America/Chicago
DTSTART:20251118T160000Z
DTEND:20251118T173000Z
UID:464258
SUMMARY:CSWEA Operator Training Webinar - Fundamentals of Collections Systems
LOCATION:
DESCRIPTION:CSWEA Operator Training Webinar - Fundamentals of Collections Systems\n\n11/18/25 10:00 AM CST\n - 11/18/25 11:30 AM CST\Description:\nCOST:\n$40 – Non-Members\n$35 – Members (Discount Code: CSWEA)\n$10 – Student (Discount Code: Student)\n$10 – International (Discount Code: International)\n\n1.5 CEU's for IL, WI & MN Operators / 1.8 PDH's for all Professional Engineers\n \n\nInfo | Register\n
X-ALT-DESC;FMTTYPE=text/html:CSWEA Operator Training Webinar - Fundamentals of Collections Systems<br /><br />11/18/25 10:00 AM CST - 11/18/25 11:30 AM CST<br />Description:<br /><p><strong><u>COST:</u></strong><br />
$40 &ndash; Non-Members<br />
$35 &ndash; Members (Discount Code: CSWEA)<br />
$10 &ndash; Student (Discount Code: Student)<br />
$10 &ndash; International (Discount Code: International)<br />
<br />
1.5 CEU's for IL, WI &amp; MN Operators / 1.8 PDH's for all Professional Engineers<br />
&nbsp;</p>

<p><a href="https://cswea.org/wp-content/uploads/2025/08/Fundamentals_Collection_Systems_11-18-25.pdf" rel="noopener noreferrer" target="_blank"><span style="color:#0000FF"><strong>Info</strong></span></a><span style="color:#0000FF"><strong> | </strong></span><strong><a href="https://attendee.gotowebinar.com/register/2499030950233484886" rel="noopener noreferrer" target="_blank"><span style="color:#0000FF">Register</span></a></strong></p>

PRIORITY:3
TRANSP:TRANSPARENT
BEGIN:VALARM
TRIGGER:-PT5M
ACTION:DISPLAY
DESCRIPTION:Reminder
END:VALARM
END:VEVENT
END:VCALENDAR
