BEGIN:VCALENDAR
VERSION:2.0
CALSCALE:GREGORIAN
METHOD:PUBLISH
PRODID://CNTW//464265
BEGIN:VEVENT
DTSTAMP:20260421T171141
VTIMEZONE:America/Chicago
DTSTART:20250605T124500Z
DTEND:20250605T200000Z
UID:464265
SUMMARY:WI Section 2025 Classic Collection System Seminar
LOCATION:Turner Hall, 301 S. Fourth Street, Watertown, WI, 53098
DESCRIPTION:WI Section 2025 Classic Collection System Seminar\n\n06/05/25 07:45 AM CST\n - 06/05/25 03:00 PM CST\Description:\nATTENDEE REGISTRATION NOW OPEN!\n\n \n\n37th Annual Watertown Classic Collection System Seminar\nJune 5, 2025\nTurner Hall, Watertown, WI\n\nVendors: Info | Register\nAttendees: Info | Register\n\Location:\nTurner Hall\n301 S. Fourth Street\nWatertown, WI 53098
X-ALT-DESC;FMTTYPE=text/html:WI Section 2025 Classic Collection System Seminar<br /><br />06/05/25 07:45 AM CST - 06/05/25 03:00 PM CST<br />Description:<br /><div><span style="color:#ff0000"><strong>ATTENDEE REGISTRATION NOW OPEN!</strong></span></div>

<div>&nbsp;</div>

<div class="event-bottom">37<sup>th</sup> Annual Watertown Classic Collection System Seminar<br />
June 5, 2025<br />
Turner Hall, Watertown, WI<br />
<br />
<strong>Vendors:</strong> <u style="text-decoration:underline"><u style="color:#0000ff; text-decoration:underline"><strong><a href="https://cswea.org/wp-content/uploads/2025/01/2025-Vendor-Notification.pdf" rel="noopener" style="color: #0000ff; text-decoration: underline;" target="_blank">Info</a></strong></u></u> | <strong><u style="text-decoration:underline"><u style="color:#0000ff; text-decoration:underline"><a href="https://cswea.wufoo.com/forms/rbdc90g1evs0yj/" rel="noopener" style="color: #0000ff; text-decoration: underline;" target="_blank">Register</a></u></u></strong><br />
<strong>Attendees: <u style="text-decoration:underline"><u style="color:#0000ff; text-decoration:underline"><a href="https://cswea.org/wp-content/uploads/2025/01/2025-Watertown_Brochure-4-22-25.pdf" rel="noopener" style="color: #0000ff; text-decoration: underline;" target="_blank">Info</a></u></u> | <u style="text-decoration:underline"><u style="color:#0000ff; text-decoration:underline"><a href="https://cswea.wufoo.com/forms/rl85r2i0oxvrfb/" rel="noopener" style="color: #0000ff; text-decoration: underline;" target="_blank">Register</a></u></u></strong></div>
<br />Location:<br />Turner Hall<br />301 S. Fourth Street<br />Watertown, WI 53098
PRIORITY:3
TRANSP:TRANSPARENT
BEGIN:VALARM
TRIGGER:-PT5M
ACTION:DISPLAY
DESCRIPTION:Reminder
END:VALARM
END:VEVENT
END:VCALENDAR
