BEGIN:VCALENDAR
VERSION:2.0
CALSCALE:GREGORIAN
METHOD:PUBLISH
PRODID://CNTW//464266
BEGIN:VEVENT
DTSTAMP:20260421T171111
VTIMEZONE:America/Chicago
DTSTART:20250617T160000Z
DTEND:20250617T190000Z
UID:464266
SUMMARY:CSWEA 2025 MNX
LOCATION:City of St. Cloud Wastewater Treatment Facility, 525 60th Street South, St. Cloud, MN, 56301
DESCRIPTION:CSWEA 2025 MNX\n\n06/17/25 11:00 AM CST\n - 06/17/25 02:00 PM CST\Description:\n\n\nFree Event!\n\n \n\nJune 17, 2025\n11:00 a.m. to 2:00 p.m. CDT\n\nCity of St. Cloud Wastewater Treatment Facility\n525 60th Street South\nSt. Cloud, MN 56301\n\nLunch will be provided.  Everyone is encouraged to participate in person.  A MS Teams call-in will be provided for those that can’t be there in person.\n\n \n\nClick Here to RSVP - Includes lunch (must RSVP by June 10 for lunch)\n\n\n\Location:\nCity of St. Cloud Wastewater Treatment Facility\n525 60th Street South\nSt. Cloud, MN 56301
X-ALT-DESC;FMTTYPE=text/html:CSWEA 2025 MNX<br /><br />06/17/25 11:00 AM CST - 06/17/25 02:00 PM CST<br />Description:<br /><div class="event-bottom">
<div class="first">
<div class="event_list_header_text_place">Free Event!</div>

<div>&nbsp;</div>

<div class="event_list_header_text_place"><strong>June 17, 2025</strong><br />
<strong>11:00 a.m. to 2:00 p.m. CDT</strong><br />
<br />
City of St. Cloud Wastewater Treatment Facility<br />
525 60th Street South<br />
St. Cloud, MN 56301<br />
<br />
Lunch will be provided.&nbsp; Everyone is encouraged to participate in person.&nbsp; A MS Teams call-in will be provided for those that can&rsquo;t be there in person.</div>

<div>&nbsp;</div>

<div class="event_list_header_text_place"><u style="text-decoration:underline"><span style="color:#0000ff"><strong><a href="https://cswea.wufoo.com/forms/2025-mn-exchange/" rel="noopener" style="color: #0000ff; text-decoration: underline;" target="_blank">Click Here to RSVP</a></strong></span></u><span style="color:#0000ff"><strong>&nbsp;- </strong></span><strong>Includes lunch (must RSVP by June 10 for lunch)</strong></div>
</div>
</div>
<br />Location:<br />City of St. Cloud Wastewater Treatment Facility<br />525 60th Street South<br />St. Cloud, MN 56301
PRIORITY:3
TRANSP:TRANSPARENT
BEGIN:VALARM
TRIGGER:-PT5M
ACTION:DISPLAY
DESCRIPTION:Reminder
END:VALARM
END:VEVENT
END:VCALENDAR
