BEGIN:VCALENDAR
VERSION:2.0
CALSCALE:GREGORIAN
METHOD:PUBLISH
PRODID://CNTW//464267
BEGIN:VEVENT
DTSTAMP:20260421T142201
VTIMEZONE:America/Chicago
DTSTART:20250708T160000Z
DTEND:20250708T170000Z
UID:464267
SUMMARY:CSWEA Webinar: Using WIFIA Financing to Accelerate Water Infrastructure Projects
LOCATION:
DESCRIPTION:CSWEA Webinar: Using WIFIA Financing to Accelerate Water Infrastructure Projects\n\n07/08/25 11:00 AM CST\n - 07/08/25 12:00 PM CST\Description:\nPresented by: Dallas Shattuck - Senior Program Manager, WIFIA Program - USEPA\n\nCOST\n$35 - Non-Members\n$25 - Members (Discount Code: CSWEA)\n$10 - Student (Discount Code: Student)\n$10 - International (Discount Code: International)\n\nInfo | Register
X-ALT-DESC;FMTTYPE=text/html:CSWEA Webinar: Using WIFIA Financing to Accelerate Water Infrastructure Projects<br /><br />07/08/25 11:00 AM CST - 07/08/25 12:00 PM CST<br />Description:<br />Presented by: Dallas Shattuck - Senior Program Manager, WIFIA Program - USEPA<br />
<br />
COST<br />
$35 - Non-Members<br />
$25 - Members (Discount Code: CSWEA)<br />
$10 - Student (Discount Code: Student)<br />
$10 - International (Discount Code: International)<br />
<br />
<u style="text-decoration:underline"><u style="color:#0000ff; text-decoration:underline"><strong><a href="https://cswea.org/wp-content/uploads/2025/06/CSWEA-Webinar-WIFIA-Financing_7_8_25-1.pdf" rel="noopener" style="color: #0000ff; text-decoration: underline;" target="_blank">Info</a></strong></u></u> | <u style="text-decoration:underline"><u style="color:#0000ff; text-decoration:underline"><strong><a href="https://attendee.gotowebinar.com/register/2766865384115583839" rel="noopener noreferrer" style="color: #0000ff; text-decoration: underline;" target="_blank">Register</a></strong></u></u>
PRIORITY:3
TRANSP:TRANSPARENT
BEGIN:VALARM
TRIGGER:-PT5M
ACTION:DISPLAY
DESCRIPTION:Reminder
END:VALARM
END:VEVENT
END:VCALENDAR
