BEGIN:VCALENDAR
VERSION:2.0
CALSCALE:GREGORIAN
METHOD:PUBLISH
PRODID://CNTW//464268
BEGIN:VEVENT
DTSTAMP:20260421T171011
VTIMEZONE:America/Chicago
DTSTART:20250709T160000Z
DTEND:20250709T173000Z
UID:464268
SUMMARY:CSWEA Operator Training Webinar - Fundamentals of Preliminary and Primary Treatment
LOCATION:
DESCRIPTION:CSWEA Operator Training Webinar - Fundamentals of Preliminary and Primary Treatment\n\n07/09/25 11:00 AM CST\n - 07/09/25 12:30 PM CST\Description:\nCOST: \n$40 – Non-Members\n$35 – Members (Discount Code: CSWEA)\n$10 – Student (Discount Code: Student)\n$10 – International (Discount Code: International)\n\nInfo | Register
X-ALT-DESC;FMTTYPE=text/html:CSWEA Operator Training Webinar - Fundamentals of Preliminary and Primary Treatment<br /><br />07/09/25 11:00 AM CST - 07/09/25 12:30 PM CST<br />Description:<br /><strong><u>COST: </u></strong><br />
$40 &ndash; Non-Members<br />
$35 &ndash; Members (Discount Code: CSWEA)<br />
$10 &ndash; Student (Discount Code: Student)<br />
$10 &ndash; International (Discount Code: International)<br />
<br />
<span style="color:#0000ff"><a href="https://cswea.org/wp-content/uploads/2025/03/Fundamentals_Preliminary_Primary_7-9-25-1.pdf" rel="noopener noreferrer" style="color: #0000ff;" target="_blank"><u style="text-decoration:underline"><strong>Info</strong></u></a><strong> | </strong></span><u style="text-decoration:underline"><span style="color:#0000ff"><strong><a href="https://attendee.gotowebinar.com/register/3223272658970864469" rel="noopener noreferrer" style="color: #0000ff; text-decoration: underline;" target="_blank">Register</a></strong></span></u>
PRIORITY:3
TRANSP:TRANSPARENT
BEGIN:VALARM
TRIGGER:-PT5M
ACTION:DISPLAY
DESCRIPTION:Reminder
END:VALARM
END:VEVENT
END:VCALENDAR
