BEGIN:VCALENDAR
VERSION:2.0
CALSCALE:GREGORIAN
METHOD:PUBLISH
PRODID://CNTW//464269
BEGIN:VEVENT
DTSTAMP:20260421T130235
VTIMEZONE:America/Chicago
DTSTART:20250714T130000Z
DTEND:20250714T203000Z
UID:464269
SUMMARY:2025 ILLINOIS STORMWATER/COLLECTION SYSTEMS CONFERENCE
LOCATION:NIU Naperville Campus, 1120 E Diehl Rd, Naperville, IL, 60563
DESCRIPTION:2025 ILLINOIS STORMWATER/COLLECTION SYSTEMS CONFERENCE\n\n07/14/25 08:00 AM CST\n - 07/14/25 03:30 PM CST\Description:\nREGISTER TODAY!\n\nMonday, July 14, 2025\n8:00 AM – 3:30 PM\n\nNIU Naperville Campus,\n1120 E Diehl Rd, Naperville, IL 60563\n\nAttendees: Info & Agenda | Register\nExhibitors: Info | Register\Location:\nNIU Naperville Campus\n1120 E Diehl Rd\nNaperville, IL 60563
X-ALT-DESC;FMTTYPE=text/html:2025 ILLINOIS STORMWATER/COLLECTION SYSTEMS CONFERENCE<br /><br />07/14/25 08:00 AM CST - 07/14/25 03:30 PM CST<br />Description:<br /><span style="color:#ff0000"><strong>REGISTER TODAY!</strong></span><br />
<br />
<strong>Monday, July 14, 2025</strong><br />
<strong>8:00 AM &ndash; 3:30 PM</strong><br />
<br />
<span style="font-size:14px">NIU Naperville Campus,<br />
1120 E Diehl Rd, Naperville, IL 60563</span><br />
<br />
<strong>Attendees:</strong> <u style="text-decoration:underline"><u style="color:#0000ff; text-decoration:underline"><strong><a href="https://cswea.org/wp-content/uploads/2025/02/2025-IL-Collections-Systems-Conference-Agenda-rev3.pdf" rel="noopener" style="color: #0000ff; text-decoration: underline;" target="_blank">Info &amp; Agenda</a></strong></u></u> | <u style="text-decoration:underline"><span style="color:#0000ff"><strong><a href="https://cswea.wufoo.com/forms/2025-il-collections-system-conference-attendees/" rel="noopener" style="color: #0000ff; text-decoration: underline;" target="_blank">Register</a></strong></span></u><br />
<strong>Exhibitors: <u style="text-decoration:underline"><u style="color:#0000ff; text-decoration:underline"><a href="https://cswea.org/wp-content/uploads/2025/02/2025-CSWEA-IL-CollSys-Exhibitor-Info-Save-the-Date-Monday-July-14th.pdf" rel="noopener" style="color: #0000ff; text-decoration: underline;" target="_blank">Info</a></u></u> |</strong> <u style="text-decoration:underline"><span style="color:#0000ff"><strong><a href="https://cswea.wufoo.com/forms/2025-il-collections-system-conference-exhibitors/" rel="noopener" style="color: #0000ff; text-decoration: underline;" target="_blank">Register</a></strong></span></u><br />Location:<br />NIU Naperville Campus<br />1120 E Diehl Rd<br />Naperville, IL 60563
PRIORITY:3
TRANSP:TRANSPARENT
BEGIN:VALARM
TRIGGER:-PT5M
ACTION:DISPLAY
DESCRIPTION:Reminder
END:VALARM
END:VEVENT
END:VCALENDAR
