BEGIN:VCALENDAR
VERSION:2.0
CALSCALE:GREGORIAN
METHOD:PUBLISH
PRODID://CNTW//464271
BEGIN:VEVENT
DTSTAMP:20260421T113831
VTIMEZONE:America/Chicago
DTSTART:20250717T220000Z
DTEND:20250718T010000Z
UID:464271
SUMMARY:CSWEA YP and Student Summer Social
LOCATION:Boone & Crockett, 818 S Water St, Milwaukee, WI, 53204
DESCRIPTION:CSWEA YP and Student Summer Social\n\n07/17/25 05:00 PM CST\n - 07/17/25 08:00 PM CST\Description:\nThursday July 17th | 5pm - 8pm\n\nBoone & Crockett\n818 S Water St, Milwaukee, WI 53204\n\nEnjoy an evening on the patio with CSWEA YPs (first round of drinks are on us!). N/A drinks also available. All are welcome!\n\nPlease RSVP by 7/11/25\n\nInfo | RSVP\Location:\nBoone & Crockett\n818 S Water St\nMilwaukee, WI 53204
X-ALT-DESC;FMTTYPE=text/html:CSWEA YP and Student Summer Social<br /><br />07/17/25 05:00 PM CST - 07/17/25 08:00 PM CST<br />Description:<br />Thursday July 17th | 5pm - 8pm<br />
<br />
Boone &amp; Crockett<br />
818 S Water St, Milwaukee, WI 53204<br />
<br />
Enjoy an evening on the patio with CSWEA YPs (first round of drinks are on us!). N/A drinks also available. All are welcome!<br />
<br />
Please RSVP&nbsp;by 7/11/25<br />
<br />
<u style="text-decoration:underline"><u style="color:#0000ff; text-decoration:underline"><strong><a href="https://cswea.org/wp-content/uploads/2025/06/CSWEA-YP-and-Student-Boone-and-Crockett-Social-7.17.25.pdf" rel="noopener" style="color: #0000ff; text-decoration: underline;" target="_blank">Info</a></strong></u></u><span style="color:#0000ff"><strong><span style="color:#000000"> |</span></strong></span> <u style="text-decoration:underline"><span style="color:#0000ff"><strong><span style="color:#0000ff"><a href="mailto:GutenbergerGM@bv.com" style="color: #0000ff; text-decoration: underline;">RSVP</a></span></strong></span></u><br />Location:<br />Boone & Crockett<br />818 S Water St<br />Milwaukee, WI 53204
PRIORITY:3
TRANSP:TRANSPARENT
BEGIN:VALARM
TRIGGER:-PT5M
ACTION:DISPLAY
DESCRIPTION:Reminder
END:VALARM
END:VEVENT
END:VCALENDAR
