BEGIN:VCALENDAR
VERSION:2.0
CALSCALE:GREGORIAN
METHOD:PUBLISH
PRODID://CNTW//464272
BEGIN:VEVENT
DTSTAMP:20260421T213237
VTIMEZONE:America/Chicago
DTSTART:20250717T170000Z
DTEND:20250718T170000Z
UID:464272
SUMMARY:CSWEA CSX 2025
LOCATION:Kalahari Resort, 1305 Kalahari Drive, Wisconsin Dells, WI, 53965
DESCRIPTION:CSWEA CSX 2025\n\n07/17/25 12:00 PM CST\n - 07/18/25 12:00 PM CST\Description:\n\n\nHOTEL BLOCK EXPIRES JUNE 16th - BOOK YOUR ROOM TODAY!\n\n \n\nJuly 17-18th\nKalahari Resort, Wisconsin Dells, WI\n\n\n\n \nHotel Bookings\n$169 - $269 a night (w/ 4 waterpark passes)\nBlock Name: Central States\nCall 877-253-5466 \nor book online: https://book.passkey.com/e/50985432\n\n\n \n\nRSVP | Agenda\n\n \n\Location:\nKalahari Resort\n1305 Kalahari Drive\nWisconsin Dells, WI 53965
X-ALT-DESC;FMTTYPE=text/html:CSWEA CSX 2025<br /><br />07/17/25 12:00 PM CST - 07/18/25 12:00 PM CST<br />Description:<br /><div class="event-bottom">
<div class="first">
<div><span style="color:#ff0000"><strong>HOTEL BLOCK EXPIRES JUNE 16th - BOOK YOUR ROOM TODAY!</strong></span></div>

<div>&nbsp;</div>

<div class="event_list_header_text_place">July 17-18th<br />
Kalahari Resort, Wisconsin Dells, WI</div>
</div>
</div>

<div>&nbsp;
<p style="font-weight: 400;"><strong>Hotel Bookings</strong><br />
$169 - $269 a night (w/ 4 waterpark passes)<br />
<strong>Block Name:</strong>&nbsp;Central States<br />
<strong>Call 877-253-5466 </strong><br />
or book online: <u style="text-decoration:underline"><span style="color:#0000ff"><strong><a href="https://book.passkey.com/e/50985432" rel="noopener" style="color: #0000ff; text-decoration: underline;" target="_blank">https://book.passkey.com/e/50985432</a></strong></span></u></p>
</div>

<div>&nbsp;</div>

<div><u style="text-decoration:underline"><span style="color:#0000ff"><strong><a href="mailto:ahaque@cswea.org" rel="noopener" style="color: #0000ff; text-decoration: underline;" target="_blank">RSVP</a></strong></span></u><span style="color:#0000ff"><strong> | </strong></span><a href="https://cswea.org/wp-content/uploads/2025/06/CSX2025Agenda-FINAL.docx" rel="noopener" target="_blank"><u style="text-decoration:underline"><span style="color:#0000ff"><strong>Agenda</strong></span></u></a></div>

<div>&nbsp;</div>
<br />Location:<br />Kalahari Resort<br />1305 Kalahari Drive<br />Wisconsin Dells, WI 53965
PRIORITY:3
TRANSP:TRANSPARENT
BEGIN:VALARM
TRIGGER:-PT5M
ACTION:DISPLAY
DESCRIPTION:Reminder
END:VALARM
END:VEVENT
END:VCALENDAR
