BEGIN:VCALENDAR
VERSION:2.0
CALSCALE:GREGORIAN
METHOD:PUBLISH
PRODID://CNTW//464273
BEGIN:VEVENT
DTSTAMP:20260421T154805
VTIMEZONE:America/Chicago
DTSTART:20250724T124500Z
DTEND:20250724T200000Z
UID:464273
SUMMARY:WI Section 2025 Northwoods Collection System Seminar
LOCATION:Eagle's Club, 1104 S. Oak Avenue, Marshfield, WI, 54449
DESCRIPTION:WI Section 2025 Northwoods Collection System Seminar\n\n07/24/25 07:45 AM CST\n - 07/24/25 03:00 PM CST\Description:\n\n\nATTENDEE REGISTRATION NOW OPEN!\n\n \n\n17th Annual Northwoods Collection System Seminar\nJuly 24th, 2025\nEagle's Club\nMarshfield, WI\n\nAttendees: Info | Register\nExhibitors: Info | Register\n\n\n\Location:\nEagle's Club\n1104 S. Oak Avenue\nMarshfield, WI 54449
X-ALT-DESC;FMTTYPE=text/html:WI Section 2025 Northwoods Collection System Seminar<br /><br />07/24/25 07:45 AM CST - 07/24/25 03:00 PM CST<br />Description:<br /><div class="event-bottom">
<div class="first">
<div class="event_list_header_text_place"><span style="color:#ff0000"><strong>ATTENDEE REGISTRATION NOW OPEN!</strong></span></div>

<div>&nbsp;</div>

<div>17th Annual Northwoods Collection System Seminar<br />
July 24th, 2025<br />
Eagle's Club<br />
Marshfield, WI<br />
<br />
<strong>Attendees: <u style="text-decoration:underline"><u style="color:#0000ff; text-decoration:underline"><a href="https://cswea.org/wp-content/uploads/2025/01/2025-CSWEA-Northwoods_Brochure.pdf" rel="noopener" style="color: #0000ff; text-decoration: underline;" target="_blank">Info</a></u></u> | <u style="text-decoration:underline"><u style="color:#0000ff; text-decoration:underline"><a href="https://cswea.wufoo.com/forms/r2f1iaj0v37sp9/" rel="noopener" style="color: #0000ff; text-decoration: underline;" target="_blank">Register</a></u></u><br />
Exhibitors: <u style="text-decoration:underline"><u style="color:#0000ff; text-decoration:underline"><a href="https://cswea.org/wp-content/uploads/2025/01/Exhibitor-Northwoods-Email-1.pdf" rel="noopener" style="color: #0000ff; text-decoration: underline;" target="_blank">Info</a></u></u> | <u style="text-decoration:underline"><u style="color:#0000ff; text-decoration:underline"><a href="https://cswea.wufoo.com/forms/rzb2dm512fc7d9/" rel="noopener" style="color: #0000ff; text-decoration: underline;" target="_blank">Register</a></u></u></strong></div>
</div>
</div>
<br />Location:<br />Eagle's Club<br />1104 S. Oak Avenue<br />Marshfield, WI 54449
PRIORITY:3
TRANSP:TRANSPARENT
BEGIN:VALARM
TRIGGER:-PT5M
ACTION:DISPLAY
DESCRIPTION:Reminder
END:VALARM
END:VEVENT
END:VCALENDAR
