BEGIN:VCALENDAR
VERSION:2.0
CALSCALE:GREGORIAN
METHOD:PUBLISH
PRODID://CNTW//464274
BEGIN:VEVENT
DTSTAMP:20260421T130305
VTIMEZONE:America/Chicago
DTSTART:20250729T140000Z
DTEND:20250730T210000Z
UID:464274
SUMMARY:Sewage Sludge Incineration Conference (SSICON)
LOCATION:Union Depot, 214 4th St E, St. Paul, MN, 55101
DESCRIPTION:Sewage Sludge Incineration Conference (SSICON)\n\n07/29/25 09:00 AM CST\n - 07/30/25 04:00 PM CST\Description:\nJuly 29-30, 2025\n214 4th St E\nSt. Paul MN 55101\n\nThe sewage sludge incineration (SSI) industry continues to offer a reliable process for wastewater solids treatment. The industry has proved up to the challenges of recent regulatory changes while offering a potential solution for the current wastewater challenge, PFAS. To ensure reliable operation for the future it's important for professionals operating, maintaining, designing, and optimizing these facilities to collaborate and establish lines of knowledge transfer. This conference is focused to benefit the utilities who own and operate SSIs and will cover advanced topics on these facilities. The “classroom” portion of the conference agenda (Tuesday, July 29) has been tailored to address common questions raised by both fluid bed and multiple hearth-based SSI utilities on what it takes to keep facilities operating or transition to a new incineration technology. The “tour” day (Wednesday, July 30) offers attendees the opportunity to visit two different facilities that represent both the fluid bed and multiple hearth technologies primarily used in Canada and the US. Attend the conference to learn more about SSIs and perhaps more importantly make connections with utilities and other professionals serving these facilities!\n\nHyatt Place St. Paul (180 Kellogg Boulevard East) is offering a group rate for attendees of the conference if they book before June 30. Book a room by clicking below or call 1-888-492-8847, press 1 for New Reservation, and mention the group rate code: G-CSRB.\n\nInfo | Register | Hotel Bookings\Location:\nUnion Depot\n214 4th St E\nSt. Paul, MN 55101
X-ALT-DESC;FMTTYPE=text/html:Sewage Sludge Incineration Conference (SSICON)<br /><br />07/29/25 09:00 AM CST - 07/30/25 04:00 PM CST<br />Description:<br /><strong>July 29-30, 2025<br />
214 4th St E<br />
St. Paul MN 55101</strong><br />
<br />
The sewage sludge incineration (SSI) industry continues to offer a reliable process for wastewater solids treatment. The industry has proved up to the challenges of recent regulatory changes while offering a potential solution for the current wastewater challenge, PFAS. To ensure reliable operation for the future it's important for professionals operating, maintaining, designing, and optimizing these facilities to collaborate and establish lines of knowledge transfer. This conference is focused to benefit the utilities who own and operate SSIs and will cover advanced topics on these facilities. The &ldquo;classroom&rdquo; portion of the conference agenda (Tuesday, July 29) has been tailored to address common questions raised by both fluid bed and multiple hearth-based SSI utilities on what it takes to keep facilities operating or transition to a new incineration technology. The &ldquo;tour&rdquo; day (Wednesday, July 30) offers attendees the opportunity to visit two different facilities that represent both the fluid bed and multiple hearth technologies primarily used in Canada and the US. Attend the conference to learn more about SSIs and perhaps more importantly make connections with utilities and other professionals serving these facilities!<br />
<br />
Hyatt Place St. Paul (180 Kellogg Boulevard East) is offering a group rate for attendees of the conference if they book before June 30. Book a room by clicking below&nbsp;or call 1-888-492-8847, press 1 for New Reservation, and mention the group rate code: G-CSRB.<br />
<br />
<u style="text-decoration:underline"><u style="color:#0000ff; text-decoration:underline"><strong><a href="https://cswea.org/wp-content/uploads/2025/05/SSICON-2025-Flyer.pdf" rel="noopener" style="color: #0000ff; text-decoration: underline;" target="_blank">Info</a></strong></u></u> | <u style="color:#0000ff; text-decoration:underline"><strong><a href="https://cswea.wufoo.com/forms/2025-sewage-sludge-incineration-conference/" rel="noopener" style="color: #0000ff; text-decoration: underline;" target="_blank">Register</a></strong></u> | <u style="text-decoration:underline"><u style="color:#0000ff; text-decoration:underline"><strong><a href="https://www.hyatt.com/en-US/hotel/minnesota/hyatt-place-st-paul-downtown/mspzs?corp_id=G-CSRB" rel="noopener" style="color: #0000ff; text-decoration: underline;" target="_blank">Hotel Bookings</a></strong></u></u><br />Location:<br />Union Depot<br />214 4th St E<br />St. Paul, MN 55101
PRIORITY:3
TRANSP:TRANSPARENT
BEGIN:VALARM
TRIGGER:-PT5M
ACTION:DISPLAY
DESCRIPTION:Reminder
END:VALARM
END:VEVENT
END:VCALENDAR
