BEGIN:VCALENDAR
VERSION:2.0
CALSCALE:GREGORIAN
METHOD:PUBLISH
PRODID://CNTW//464276
BEGIN:VEVENT
DTSTAMP:20260421T171024
VTIMEZONE:America/Chicago
DTSTART:20250812T123000Z
DTEND:20250812T203000Z
UID:464276
SUMMARY:WI Section 2025 Industrial Pretreatment Seminar
LOCATION:Dale's Weston Lanes & The Mountain Bay Banquet & Conference Center, 5902 Schofield Ave., Weston, WI, 54476
DESCRIPTION:WI Section 2025 Industrial Pretreatment Seminar\n\n08/12/25 07:30 AM CST\n - 08/12/25 03:30 PM CST\Description:\nREGISTRATION NOW OPEN!\n\nTuesday, August 12, 2025 | 7:30am - 3:30pm\n\nDale's Weston Lanes & The Mountain Bay Banquet & Conference Center\n5902 Schofield Ave.\nWeston, WI 54476\n\nInfo & Agenda | Register  \Location:\nDale's Weston Lanes & The Mountain Bay Banquet & Conference Center\n5902 Schofield Ave.\nWeston, WI 54476
X-ALT-DESC;FMTTYPE=text/html:WI Section 2025 Industrial Pretreatment Seminar<br /><br />08/12/25 07:30 AM CST - 08/12/25 03:30 PM CST<br />Description:<br /><span style="color:#ff0000"><strong>REGISTRATION NOW OPEN!</strong></span><br />
<br />
<strong>Tuesday, August 12, 2025 | 7:30am - 3:30pm</strong><br />
<br />
<strong>Dale's Weston Lanes &amp; The Mountain Bay Banquet &amp; Conference Center</strong><br />
<strong>5902 Schofield Ave.</strong><br />
<strong>Weston, WI 54476</strong><br />
<br />
<u style="color:#0000ff; text-decoration:underline"><strong><a href="https://cswea.org/wp-content/uploads/2025/04/2025-Seminar-Flyer.pdf" rel="noopener" style="color: #0000ff; text-decoration: underline;" target="_blank">Info &amp; Agenda</a></strong></u><span style="color:#000000"><strong> | </strong></span><u style="color:#0000ff; text-decoration:underline"><strong><u style="color:#0000ff; text-decoration:underline"><a href="https://cswea.wufoo.com/forms/2025-wi-industrial-pretreatment-seminar/" rel="noopener" style="color: #0000ff; text-decoration: underline;" target="_blank">Register</a></u></strong></u> &nbsp;<br />Location:<br />Dale's Weston Lanes & The Mountain Bay Banquet & Conference Center<br />5902 Schofield Ave.<br />Weston, WI 54476
PRIORITY:3
TRANSP:TRANSPARENT
BEGIN:VALARM
TRIGGER:-PT5M
ACTION:DISPLAY
DESCRIPTION:Reminder
END:VALARM
END:VEVENT
END:VCALENDAR
