BEGIN:VCALENDAR
VERSION:2.0
CALSCALE:GREGORIAN
METHOD:PUBLISH
PRODID://CNTW//464277
BEGIN:VEVENT
DTSTAMP:20260421T183239
VTIMEZONE:America/Chicago
DTSTART:20250827T193000Z
DTEND:20250827T203000Z
UID:464277
SUMMARY:WI Section Meeting
LOCATION:
DESCRIPTION:WI Section Meeting\n\n08/27/25 02:30 PM CST\n - 08/27/25 03:30 PM CST\Description:\nWed Aug 27, 2025 - 2:30pm – 3:30pm\nMarquette Engineering Hall- Room TBD\n \n\nA virtual option is available via the link below. Hope to see you there!\n \nJoin the meeting now\nMeeting ID: 247 788 253 016 7\nPasscode: xX9KT33M
X-ALT-DESC;FMTTYPE=text/html:WI Section Meeting<br /><br />08/27/25 02:30 PM CST - 08/27/25 03:30 PM CST<br />Description:<br /><p style="font-weight: 400;"><strong>Wed Aug 27, 2025 - 2:30pm &ndash; 3:30pm</strong><br />
<strong>Marquette Engineering Hall- Room TBD</strong><br />
&nbsp;</p>

<p style="font-weight: 400;">A virtual option is available via the link below. Hope to see you there!<br />
&nbsp;</p>
<u style="text-decoration:underline"><span style="color:#0000ff"><strong><a data-saferedirecturl="https://www.google.com/url?q=https://teams.microsoft.com/l/meetup-join/19%253ameeting_MDExMzRhYTAtYmIzZi00YmE2LWIzZjgtNTRiZGVlNmQ2ODgw%2540thread.v2/0?context%3D%257b%2522Tid%2522%253a%2522f50354a0-4a5a-4fa1-b18f-8d1efb41b024%2522%252c%2522Oid%2522%253a%252269bca120-abc2-4daa-8f28-a209a3f56e6b%2522%257d&amp;source=gmail&amp;ust=1733249992777000&amp;usg=AOvVaw07aMuFfwVYt-K8ERrwNb10" href="https://teams.microsoft.com/l/meetup-join/19%3ameeting_ZjYxODI2MWItYzk0Yi00NjNjLWFhMjYtNjNmNDQwM2I0ZjBh%40thread.v2/0?context=%7b%22Tid%22%3a%2241803075-2931-4eff-a1f1-cfa2621ba492%22%2c%22Oid%22%3a%22acf530db-6323-43d3-8051-699adc2a01c8%22%7d" rel="noopener" style="color: #0000ff; text-decoration: underline;" target="_blank">Join the meeting now</a></strong></span></u><br />
Meeting ID: 247 788 253 016 7<br />
Passcode: xX9KT33M
PRIORITY:3
TRANSP:TRANSPARENT
BEGIN:VALARM
TRIGGER:-PT5M
ACTION:DISPLAY
DESCRIPTION:Reminder
END:VALARM
END:VEVENT
END:VCALENDAR
