BEGIN:VCALENDAR
VERSION:2.0
CALSCALE:GREGORIAN
METHOD:PUBLISH
PRODID://CNTW//464278
BEGIN:VEVENT
DTSTAMP:20260421T183321
VTIMEZONE:America/Chicago
DTSTART:20250909T130000Z
DTEND:20250909T183000Z
UID:464278
SUMMARY:2025 IL Operations Seminar
LOCATION:Fox Metro WRD, 682 State Route 31, Oswego, IL, 60543
DESCRIPTION:2025 IL Operations Seminar\n\n09/09/25 08:00 AM CST\n - 09/09/25 01:30 PM CST\Description:\nSAVE THE DATE - Tuesday, September 9th, 2025\n \n\nFox Metro WRD\n682 State Route 31\nOswego, IL. 60543\n \n\nAgenda\n8:00AM–8:30AM   Registration (coffee & doughnuts)\n8:30AM–11:30AM   Equipment Demos & Presentations\n11:15AM–12:00PM   Lunch\n12:00PM–1:30PM   Equipment Demos & Presentations\n1:30PM–   END Plant Tour\n \n\nDemo Day hands on equipment demos and presentations.\nLAI & Associates, Borger Pump, Centrisys, and Grundfos\nWelcome coffee, juice, & doughnuts\nLunch Included\n\Location:\nFox Metro WRD\n682 State Route 31\nOswego, IL 60543
X-ALT-DESC;FMTTYPE=text/html:2025 IL Operations Seminar<br /><br />09/09/25 08:00 AM CST - 09/09/25 01:30 PM CST<br />Description:<br /><p><strong><span style="color:#FF0000">SAVE THE DATE</span> - Tuesday, September 9th, 2025</strong><br />
&nbsp;</p>

<p><strong>Fox Metro WRD<br />
682 State Route 31<br />
Oswego, IL. 60543</strong><br />
&nbsp;</p>

<p><u><strong>Agenda</strong></u><br />
8:00AM&ndash;8:30AM&nbsp; &nbsp;Registration (coffee &amp; doughnuts)<br />
8:30AM&ndash;11:30AM&nbsp; &nbsp;Equipment Demos &amp; Presentations<br />
11:15AM&ndash;12:00PM&nbsp; &nbsp;Lunch<br />
12:00PM&ndash;1:30PM&nbsp; &nbsp;Equipment Demos &amp; Presentations<br />
1:30PM&ndash;&nbsp; &nbsp;END Plant Tour<br />
&nbsp;</p>

<p>Demo Day hands on equipment demos and presentations.<br />
LAI &amp; Associates, Borger Pump, Centrisys, and Grundfos<br />
Welcome coffee, juice, &amp; doughnuts<br />
Lunch Included</p>
<br />Location:<br />Fox Metro WRD<br />682 State Route 31<br />Oswego, IL 60543
PRIORITY:3
TRANSP:TRANSPARENT
BEGIN:VALARM
TRIGGER:-PT5M
ACTION:DISPLAY
DESCRIPTION:Reminder
END:VALARM
END:VEVENT
END:VCALENDAR
