BEGIN:VCALENDAR
VERSION:2.0
CALSCALE:GREGORIAN
METHOD:PUBLISH
PRODID://CNTW//464280
BEGIN:VEVENT
DTSTAMP:20260421T170912
VTIMEZONE:America/Chicago
DTSTART:20250924T200000Z
DTEND:20250924T230000Z
UID:464280
SUMMARY:Stormwater Committee Bike Tour
LOCATION:Como Lakeside Pavilion, 1360 Lexington Parkway North, Saint Paul, MN, 55103
DESCRIPTION:Stormwater Committee Bike Tour\n\n09/24/25 03:00 PM CST\n - 09/24/25 06:00 PM CST\Description:\nFREE EVENT!\n\nWednesday, September 24, 3-5pm\nMeet at Como Lakeside Pavilion, 1360 Lexington Parkway North, Saint Paul\n \n\nJoin the Minnesota Stormwater Committee as we take a tour around the Como Lake watershed and learn about Capital Region Watershed District’s nearly three decades of work to improve stormwater management, work with the community, and perform in-lake treatments to achieve a healthier Como Lake. You will participate in a guided 6-mile bike tour on the streets and bike trails of Saint Paul, around the lake, through the adjacent regional park, and up into the watershed, While learning about various related topics.\n \n\nPlease bring your own bike and helmet. Following the tour, at 5:00 p.m., we will enjoy a happy hour at the Como Lakeside Pavilion (outdoors). This event and tour will happen rain or shine, so please dress for the weather.\n \n\nFor questions and registration, please contact Stephanie Johnson at stephanie.johnson@barr.com.\n\Location:\nComo Lakeside Pavilion\n1360 Lexington Parkway North\nSaint Paul, MN 55103
X-ALT-DESC;FMTTYPE=text/html:Stormwater Committee Bike Tour<br /><br />09/24/25 03:00 PM CST - 09/24/25 06:00 PM CST<br />Description:<br /><p><span style="color:#FF0000"><strong>FREE EVENT!</strong></span><br />
<br />
<strong>Wednesday, September 24, 3-5pm<br />
Meet at Como Lakeside Pavilion, 1360 Lexington Parkway North, Saint Paul</strong><br />
&nbsp;</p>

<p>Join the Minnesota Stormwater Committee as we take a tour around the Como Lake watershed and learn about Capital Region Watershed District&rsquo;s nearly three decades of work to improve stormwater management, work with the community, and perform in-lake treatments to achieve a healthier Como Lake. You will participate in a guided 6-mile bike tour on the streets and bike trails of Saint Paul, around the lake, through the adjacent regional park, and up into the watershed, While learning about various related topics.<br />
&nbsp;</p>

<p>Please bring your own bike and helmet. Following the tour, at 5:00 p.m., we will enjoy a happy hour at the Como Lakeside Pavilion (outdoors). This event and tour will happen rain or shine, so please dress for the weather.<br />
&nbsp;</p>

<p><strong>For questions and registration, please contact Stephanie Johnson at <a href="mailto:stephanie.johnson@barr.com"><span style="color:#0000FF">stephanie.johnson@barr.com</span></a>.</strong></p>
<br />Location:<br />Como Lakeside Pavilion<br />1360 Lexington Parkway North<br />Saint Paul, MN 55103
PRIORITY:3
TRANSP:TRANSPARENT
BEGIN:VALARM
TRIGGER:-PT5M
ACTION:DISPLAY
DESCRIPTION:Reminder
END:VALARM
END:VEVENT
END:VCALENDAR
