BEGIN:VCALENDAR
VERSION:2.0
CALSCALE:GREGORIAN
METHOD:PUBLISH
PRODID://CNTW//464281
BEGIN:VEVENT
DTSTAMP:20260421T154751
VTIMEZONE:America/Chicago
DTSTART:20250925T180000Z
DTEND:20250925T200000Z
UID:464281
SUMMARY:CSWEA MN Section Pretreatment Seminar 2025
LOCATION:Pilgrim's Pride, Sauk River Road, Cold Spring, MN, 56320
DESCRIPTION:CSWEA MN Section Pretreatment Seminar 2025\n\n09/25/25 01:00 PM CST\n - 09/25/25 03:00 PM CST\Description:\nThursday, September 25th, 2025, 1pm - 3pm\n\nPilgrim's Pride\nSauk River Road\nCold Spring, MN 56320\n \n\n$15 MEMBERS\n$20 NON-MEMBERS\n \n\nThe Minnesota Section of the Central States Water Environment Association (CSWEA) Industrial Wastes Committee is excited to invite municipal and industrial water professionals to Cold Spring, Minnesota for a small group facility tour and first hand conversation with industry, municipal, and engineering representatives. We will discuss roles, responsibilities, challenges and examples of a successful pretreatment program.\nPresentations and discussions on nutrient reduction programs and strategies, looking particularly at nitrogen. Permittee and State Regulator perspectives will be shared.\n\nCSWEA leaders and representatives will also be present and will provide an overview of the Industrial Waste Committee, CSWEA resources and the Water Environment Federation (WEF) Industrial Water Quality Achievement Award opportunities.\nContinuing Education Units (CEUs) will be provided.\n \n\nInfo | Register\n\Location:\nPilgrim's Pride\nSauk River Road\nCold Spring, MN 56320
X-ALT-DESC;FMTTYPE=text/html:CSWEA MN Section Pretreatment Seminar 2025<br /><br />09/25/25 01:00 PM CST - 09/25/25 03:00 PM CST<br />Description:<br /><p><strong>Thursday, September 25th, 2025, 1pm - 3pm</strong><br />
<br />
<strong>Pilgrim's Pride</strong><br />
<strong>Sauk River Road</strong><br />
<strong>Cold Spring, MN 56320</strong><br />
&nbsp;</p>

<p><span style="color:#FF0000"><strong>$15 MEMBERS</strong><br />
<strong>$20 NON-MEMBERS</strong></span><br />
&nbsp;</p>

<p>The Minnesota Section of the Central States Water Environment Association (CSWEA) Industrial Wastes Committee is excited to invite municipal and industrial water professionals to Cold Spring, Minnesota for a small group facility tour and first hand conversation with industry, municipal, and engineering representatives. We will discuss roles, responsibilities, challenges and examples of a successful pretreatment program.<br />
Presentations and discussions on nutrient reduction programs and strategies, looking particularly at nitrogen. Permittee and State Regulator perspectives will be shared.<br />
<br />
CSWEA leaders and representatives will also be present and will provide an overview of the Industrial Waste Committee, CSWEA resources and the Water Environment Federation (WEF) Industrial Water Quality Achievement Award opportunities.<br />
Continuing Education Units (CEUs) will be provided.<br />
&nbsp;</p>

<p><span style="font-size:14px"><strong><a href="https://cswea.org/wp-content/uploads/2025/08/CSWEA-MN-2025-Industrial-Pretreatment-Tour_FINAL_UPDATED.pdf" rel="noopener" target="_blank"><span style="color:#0000FF">Info</span></a></strong>&nbsp;|&nbsp;<strong><a href="https://cswea.wufoo.com/forms/2025-mn-industrial-pretreatment-seminar/" rel="noopener" target="_blank"><span style="color:#0000FF">Register</span></a></strong></span></p>
<br />Location:<br />Pilgrim's Pride<br />Sauk River Road<br />Cold Spring, MN 56320
PRIORITY:3
TRANSP:TRANSPARENT
BEGIN:VALARM
TRIGGER:-PT5M
ACTION:DISPLAY
DESCRIPTION:Reminder
END:VALARM
END:VEVENT
END:VCALENDAR
