BEGIN:VCALENDAR
VERSION:2.0
CALSCALE:GREGORIAN
METHOD:PUBLISH
PRODID://CNTW//464282
BEGIN:VEVENT
DTSTAMP:20260421T200252
VTIMEZONE:America/Chicago
DTSTART:20250928T220000Z
DTEND:20250929T010000Z
UID:464282
SUMMARY:2025 CSWEA/IWEA WEFTEC Reception
LOCATION:Spin, 344 N. State St., Chicago, IL, 60654
DESCRIPTION:2025 CSWEA/IWEA WEFTEC Reception\n\n09/28/25 05:00 PM CST\n - 09/28/25 08:00 PM CST\Description:\nSeptember 28th, 2025 | 5:00 - 8:00PM\n \n\nSpin\n344 N. State St.\nChicago, IL 60654\nhttps://wearespin.com/location/chicago/\n \nAttendee Registration | Sponsor Registration\n\nAll members and sponsors of CSWEA and IWEA are invited to attend!\Location:\nSpin\n344 N. State St.\nChicago, IL 60654
X-ALT-DESC;FMTTYPE=text/html:2025 CSWEA/IWEA WEFTEC Reception<br /><br />09/28/25 05:00 PM CST - 09/28/25 08:00 PM CST<br />Description:<br /><p>S<strong>eptember 28th, 2025 | 5:00 - 8:00PM</strong><br />
&nbsp;</p>

<p><strong>Spin<br />
344 N. State St.<br />
Chicago, IL 60654</strong><br />
<strong><a href="https://wearespin.com/location/chicago/" rel="noopener" target="_blank"><span style="color:#0000FF">https://wearespin.com/location/chicago/</span></a></strong></p>
&nbsp;<br />
<strong><a href="https://lp.constantcontactpages.com/ev/reg/3cpchjk" rel="noopener" target="_blank"><span style="color:#0000FF">Attendee Registration</span></a></strong><span style="color:#0000FF">&nbsp;| </span><strong><a href="https://cswea.wufoo.com/forms/2025-iweacswea-weftec-reception-sponsorship/" rel="noopener" target="_blank"><span style="color:#0000FF">Sponsor Registration</span></a></strong><br />
<br />
All members and sponsors of CSWEA and IWEA are invited to attend!<br />Location:<br />Spin<br />344 N. State St.<br />Chicago, IL 60654
PRIORITY:3
TRANSP:TRANSPARENT
BEGIN:VALARM
TRIGGER:-PT5M
ACTION:DISPLAY
DESCRIPTION:Reminder
END:VALARM
END:VEVENT
END:VCALENDAR
