BEGIN:VCALENDAR
VERSION:2.0
CALSCALE:GREGORIAN
METHOD:PUBLISH
PRODID://CNTW//464283
BEGIN:VEVENT
DTSTAMP:20260421T183306
VTIMEZONE:America/Chicago
DTSTART:20251004T140000Z
DTEND:20251004T170000Z
UID:464283
SUMMARY:DGSD Open House 2025
LOCATION:Wastewater Treatment Center, 5003 Walnut Ave, Downers Grove, IL, 60515
DESCRIPTION:DGSD Open House 2025\n\n10/04/25 09:00 AM CST\n - 10/04/25 12:00 PM CST\Description:\nFREE EVENT!\n\nSaturday, October 4th, 2025, 9am - 12pm\nWastewater Treatment Center, 5003 Walnut Ave., Downers Grove (3 blocks north of Maple Ave.)\n \n\nJoin us for a behind-the-scenes look at how your local wastewater treatment plant works from start to finish!\nHomeowners, students, scout groups, and community members of all ages are welcome.\nADMISSION IS FREE!\n \n\nFor more information, call 630-969-0664, or visit https://www.dgsd.org/educational-opportunities/annual-open-house/\n\Location:\nWastewater Treatment Center\n5003 Walnut Ave\nDowners Grove, IL 60515
X-ALT-DESC;FMTTYPE=text/html:DGSD Open House 2025<br /><br />10/04/25 09:00 AM CST - 10/04/25 12:00 PM CST<br />Description:<br /><p><span style="color:#FF0000"><strong>FREE EVENT!</strong></span><br />
<br />
<strong>Saturday, October 4th, 2025, 9am - 12pm<br />
Wastewater Treatment Center, 5003 Walnut Ave., Downers Grove (3 blocks north of Maple Ave.)</strong><br />
&nbsp;</p>

<p>Join us for a behind-the-scenes look at how your local wastewater treatment plant works from start to finish!<br />
Homeowners, students, scout groups, and community members of all ages are welcome.<br />
<span style="color:#FF0000"><strong>ADMISSION IS FREE!</strong></span><br />
&nbsp;</p>

<p><strong>For more information, call 630-969-0664, or visit<u><span style="color:#0000FF"> </span></u><a href="https://www.dgsd.org/educational-opportunities/annual-open-house/" rel="noopener" target="_blank"><span style="color:#0000FF">https://www.dgsd.org/educational-opportunities/annual-open-house/</span></a></strong></p>
<br />Location:<br />Wastewater Treatment Center<br />5003 Walnut Ave<br />Downers Grove, IL 60515
PRIORITY:3
TRANSP:TRANSPARENT
BEGIN:VALARM
TRIGGER:-PT5M
ACTION:DISPLAY
DESCRIPTION:Reminder
END:VALARM
END:VEVENT
END:VCALENDAR
