BEGIN:VCALENDAR
VERSION:2.0
CALSCALE:GREGORIAN
METHOD:PUBLISH
PRODID://CNTW//464284
BEGIN:VEVENT
DTSTAMP:20260421T183417
VTIMEZONE:America/Chicago
DTSTART:20251014T150000Z
DTEND:20251014T163000Z
UID:464284
SUMMARY:CSWEA Operator Training Webinar - Activated Sludge II
LOCATION:
DESCRIPTION:CSWEA Operator Training Webinar - Activated Sludge II\n\n10/14/25 10:00 AM CST\n - 10/14/25 11:30 AM CST\Description:\nCOST:\n$35 – Members (Discount Code: CSWEA)\n$40 – Non-Members\n$10 – Student (Discount Code: Student)\n$10 – International (Discount Code: International)\n\n1.5 CEU's for IL, WI & MN Operators / 1.8 PDH's for all Professional Engineers\n \n\nInfo | Register\n
X-ALT-DESC;FMTTYPE=text/html:CSWEA Operator Training Webinar - Activated Sludge II<br /><br />10/14/25 10:00 AM CST - 10/14/25 11:30 AM CST<br />Description:<br /><p><strong><u>COST:</u></strong><br />
$35 &ndash; Members (Discount Code: CSWEA)<br />
$40 &ndash; Non-Members<br />
$10 &ndash; Student (Discount Code: Student)<br />
$10 &ndash; International (Discount Code: International)<br />
<br />
1.5 CEU's for IL, WI &amp; MN Operators / 1.8 PDH's for all Professional Engineers<br />
&nbsp;</p>

<p><a href="https://cswea.org/wp-content/uploads/2025/08/Activated-Sludge-II_10-14-25.pdf" rel="noopener noreferrer" target="_blank"><span style="color:#0000FF"><strong>Info</strong></span></a><span style="color:#0000FF"><strong> | </strong></span><strong><a href="https://attendee.gotowebinar.com/register/7043000246529255261" rel="noopener noreferrer" target="_blank"><span style="color:#0000FF">Register</span></a></strong></p>

PRIORITY:3
TRANSP:TRANSPARENT
BEGIN:VALARM
TRIGGER:-PT5M
ACTION:DISPLAY
DESCRIPTION:Reminder
END:VALARM
END:VEVENT
END:VCALENDAR
