BEGIN:VCALENDAR
VERSION:2.0
CALSCALE:GREGORIAN
METHOD:PUBLISH
PRODID://CNTW//464285
BEGIN:VEVENT
DTSTAMP:20260421T130117
VTIMEZONE:America/Chicago
DTSTART:20251021T170000Z
DTEND:20251021T183000Z
UID:464285
SUMMARY:Flowing Forward - Fostering Innovation: Developing Creative Thinking and Soft Skills for Success
LOCATION:
DESCRIPTION:Flowing Forward - Fostering Innovation: Developing Creative Thinking and Soft Skills for Success\n\n10/21/25 12:00 PM CST\n - 10/21/25 01:30 PM CST\Description:\nFREE WEBINAR! - SAVE THE DATE\n \n\nTuesday, October 21st at 12pm\n \n\nFor more information contact: ransari@msa-ps.com\n
X-ALT-DESC;FMTTYPE=text/html:Flowing Forward - Fostering Innovation: Developing Creative Thinking and Soft Skills for Success<br /><br />10/21/25 12:00 PM CST - 10/21/25 01:30 PM CST<br />Description:<br /><p><span style="color:#FF0000"><strong>FREE WEBINAR! - SAVE THE DATE</strong></span><br />
&nbsp;</p>

<p><strong>Tuesday, October 21st at 12pm</strong><br />
&nbsp;</p>

<p>For more information contact: <strong><a href="mailto:ransari@msa-ps.com"><span style="color:#0000FF">ransari@msa-ps.com</span></a></strong></p>

PRIORITY:3
TRANSP:TRANSPARENT
BEGIN:VALARM
TRIGGER:-PT5M
ACTION:DISPLAY
DESCRIPTION:Reminder
END:VALARM
END:VEVENT
END:VCALENDAR
