BEGIN:VCALENDAR
VERSION:2.0
CALSCALE:GREGORIAN
METHOD:PUBLISH
PRODID://CNTW//464507
BEGIN:VEVENT
DTSTAMP:20260421T154609
VTIMEZONE:America/Chicago
DTSTART:20251106T150000Z
DTEND:20251106T223000Z
UID:464507
SUMMARY:2025 MN Conference on the Environment
LOCATION:Minneapolis Convention Center, 1301 2nd Ave S, Minneapolis, MN, 55403
DESCRIPTION:2025 MN Conference on the Environment\n\n11/06/25 09:00 AM CST\n - 11/06/25 04:30 PM CST\Description:\nATTENDEE REGISTRATION NOW OPEN!\n \n\nMinneapolis Convention Center\n1301 2nd Ave S, Minneapolis, MN 55403\n \n\nAttendees: Agenda | Register\n\nExhibitors: Register\n\Location:\nMinneapolis Convention Center\n1301 2nd Ave S\nMinneapolis, MN 55403
X-ALT-DESC;FMTTYPE=text/html:2025 MN Conference on the Environment<br /><br />11/06/25 09:00 AM CST - 11/06/25 04:30 PM CST<br />Description:<br /><p><span style="color:#FF0000"><strong>ATTENDEE REGISTRATION NOW OPEN!</strong></span><br />
&nbsp;</p>

<p><span style="color:#000000"><strong>Minneapolis Convention Center<br />
1301 2nd Ave S, Minneapolis, MN 55403</strong></span><br />
&nbsp;</p>

<p><strong><span style="color:#000000">Attendees: </span><a href="https://www.cswea.org/docs/2025_Conference_on_the_Environment_Agenda_final.pdf" target="_blank"><span style="color:#0000FF">Agenda</span></a><span style="color:#000000"> |</span> <a href="https://cswea.wufoo.com/forms/2025-coe-attendee-registration/" rel="noopener" target="_blank"><span style="color:#0000FF">Register</span></a></strong></p>

<p><strong><span style="color:#000000">Exhibitors:</span> <a href="https://cswea.wufoo.com/forms/2025-coe-exhibitor-sponsor-registration/" rel="noopener" target="_blank"><span style="color:#0000FF">Register</span></a></strong></p>
<br />Location:<br />Minneapolis Convention Center<br />1301 2nd Ave S<br />Minneapolis, MN 55403
PRIORITY:3
TRANSP:TRANSPARENT
BEGIN:VALARM
TRIGGER:-PT5M
ACTION:DISPLAY
DESCRIPTION:Reminder
END:VALARM
END:VEVENT
END:VCALENDAR
