BEGIN:VCALENDAR
VERSION:2.0
CALSCALE:GREGORIAN
METHOD:PUBLISH
PRODID://CNTW//469353
BEGIN:VEVENT
DTSTAMP:20260421T200507
VTIMEZONE:America/Chicago
DTSTART:20251211T213000Z
DTEND:20251211T233000Z
UID:469353
SUMMARY:IL Section Meeting
LOCATION:Alter Brewing Company, 2300 Wisconsin Ave Ste 213, Downers Grove, IL, 60515
DESCRIPTION:IL Section Meeting\n\n12/11/25 03:30 PM CST\n - 12/11/25 05:30 PM CST\Description:\nAll IL Members Welcome!\n \n\nThursday, December 11th | 3:30 - 5:30\n \n\nAlter Brewing Company\n2300 Wisconsin Ave Ste 213\nDowners Grove, IL 60515\n \n\nHappy hour for the holidays. Please dress accordingly!\n \n\nIf you cannot attend in person, you can Join Via Teams.\n\Location:\nAlter Brewing Company\n2300 Wisconsin Ave Ste 213\nDowners Grove, IL 60515
X-ALT-DESC;FMTTYPE=text/html:IL Section Meeting<br /><br />12/11/25 03:30 PM CST - 12/11/25 05:30 PM CST<br />Description:<br /><p><span style="color:#FF0000"><strong>All IL Members Welcome!</strong></span><br />
&nbsp;</p>

<p><strong>Thursday, December 11th | 3:30 - 5:30</strong><br />
&nbsp;</p>

<p><strong>Alter Brewing Company<br />
2300 Wisconsin Ave Ste 213<br />
Downers Grove, IL 60515</strong><br />
&nbsp;</p>

<p>Happy hour for the holidays. Please dress accordingly!<br />
&nbsp;</p>

<p><strong>If you cannot attend in person, you can <a href="https://teams.microsoft.com/l/meetup-join/19%3ameeting_ZGNlYTEwMzMtNDY1OC00OTZmLTg0MzMtNzNiNWYyNWUwNDJm%40thread.v2/0?context=%7b%22Tid%22%3a%22657c8bb5-f19a-4cf7-a04d-698bf5076a2a%22%2c%22Oid%22%3a%2241b73bce-f7b5-4e29-ad57-0037075dbf28%22%7d" rel="noopener" target="_blank"><span style="color:#0000FF">Join Via Teams</span></a>.</strong></p>
<br />Location:<br />Alter Brewing Company<br />2300 Wisconsin Ave Ste 213<br />Downers Grove, IL 60515
PRIORITY:3
TRANSP:TRANSPARENT
BEGIN:VALARM
TRIGGER:-PT5M
ACTION:DISPLAY
DESCRIPTION:Reminder
END:VALARM
END:VEVENT
END:VCALENDAR
