BEGIN:VCALENDAR
VERSION:2.0
CALSCALE:GREGORIAN
METHOD:PUBLISH
PRODID://CNTW//475544
BEGIN:VEVENT
DTSTAMP:20260421T183255
VTIMEZONE:America/Chicago
DTSTART:20260120T160000Z
DTEND:20260120T173000Z
UID:475544
SUMMARY:Operator Training Webinar - Purpose and Fundamentals of Wastewater Treatment
LOCATION:
DESCRIPTION:Operator Training Webinar - Purpose and Fundamentals of Wastewater Treatment\n\n01/20/26 10:00 AM CST\n - 01/20/26 11:30 AM CST\Description:\nTuesday, January 20th, 2026\n10:00 AM to 11:30 AM\n\nThis course appropriately begins with the water cycle. It is an overview of the wastewater treatment process, beginning to end. This gives the individual the concepts of the entirety and impact of the work done in treatment plants. This class will be excellent for those new to the profession and those who have had a limited scope of job duties. This will be a unique opportunity of great value to persons providing products and services in the wastewater industry.\n\nTOPICS COVERED\n\n	Why We Treat Wastewater\n	Sources of Wastewater\n	Mechanical Equipment\n	Collection Systems\n	Treatment Plant\n	Effluent Disposal\n	Basics of Laboratory Analysis\n	Health and Safety\n	Emerging Issues\n\n\nCOST\n$35 – Members (Discount Code: CSWEA)\n$40 – Non-Members\n$10 – Student (Discount Code: Student)\n$10 – International (Discount Code: International)\n\nInfo | Register
X-ALT-DESC;FMTTYPE=text/html:Operator Training Webinar - Purpose and Fundamentals of Wastewater Treatment<br /><br />01/20/26 10:00 AM CST - 01/20/26 11:30 AM CST<br />Description:<br /><strong>Tuesday, January 20th, 2026<br />
10:00 AM to 11:30 AM</strong><br />
<br />
This course appropriately begins with the water cycle. It is an overview of the wastewater treatment process, beginning to end. This gives the individual the concepts of the entirety and impact of the work done in treatment plants. This class will be excellent for those new to the profession and those who have had a limited scope of job duties. This will be a unique opportunity of great value to persons providing products and services in the wastewater industry.<br />
<br />
<strong>TOPICS COVERED</strong>
<ul>
	<li>Why We Treat Wastewater</li>
	<li>Sources of Wastewater</li>
	<li>Mechanical Equipment</li>
	<li>Collection Systems</li>
	<li>Treatment Plant</li>
	<li>Effluent Disposal</li>
	<li>Basics of Laboratory Analysis</li>
	<li>Health and Safety</li>
	<li>Emerging Issues</li>
</ul>
<br />
<strong>COST<br />
$35 &ndash; Members (Discount Code: CSWEA)<br />
$40 &ndash; Non-Members<br />
$10 &ndash; Student (Discount Code: Student)<br />
$10 &ndash; International (Discount Code: International)</strong><br />
<br />
<strong><a href="http://www.cswea.org/docs/Purpose_Fundamentals_WW_1_20_26.pdf"><span style="color:#0000FF">Info</span></a> |&nbsp;<a href="https://attendee.gotowebinar.com/register/2098322736658586200" target="_blank"><span style="color:#0000FF">Register</span></a></strong>
PRIORITY:3
TRANSP:TRANSPARENT
BEGIN:VALARM
TRIGGER:-PT5M
ACTION:DISPLAY
DESCRIPTION:Reminder
END:VALARM
END:VEVENT
END:VCALENDAR
