BEGIN:VCALENDAR
VERSION:2.0
CALSCALE:GREGORIAN
METHOD:PUBLISH
PRODID://CNTW//478238
BEGIN:VEVENT
DTSTAMP:20260421T183115
VTIMEZONE:America/Chicago
DTSTART:20260122T180000Z
DTEND:20260122T200000Z
UID:478238
SUMMARY:2026 CSWEA Stormwater and Watershed Committee Webinar
LOCATION:https://attendee.gotowebinar.com/register/7492121060921612632
DESCRIPTION:2026 CSWEA Stormwater and Watershed Committee Webinar\n\n01/22/26 12:00 PM CST\n - 01/22/26 02:00 PM CST\Description:\nPlease join the Central States Water Environment Association for a Webinar offering a discussion of stormwater in the Midwest focused on restoring our natural world and innovative stormwater initiatives. This Webinar series is hosted in conjunction with the Wisconsin, Minnesota, and Illinois Stormwater Committees. Advanced registration is required. Up to 2.4 PDHs and 2 CEUs will be offered.\n\nFor more course information, contact Anna Sadowski (Anna.Sadowski@strand.com) or Ashley Leisgang (ashley.leisgang@aecom.com).\n\n\nFees for attendance are as follows.\nMember         $30 (Discount Code:  CSWEA)\nNon-Member  $35\nStudent         $10 (Discount Code:  Student)\nInternational   $10 (Discount Code:  International)\n\nAgenda | Click Here to Register\Location:\nhttps://attendee.gotowebinar.com/register/7492121060921612632\n\n,
X-ALT-DESC;FMTTYPE=text/html:2026 CSWEA Stormwater and Watershed Committee Webinar<br /><br />01/22/26 12:00 PM CST - 01/22/26 02:00 PM CST<br />Description:<br />Please join the Central States Water Environment Association for a Webinar offering a discussion of stormwater in the Midwest focused on restoring our natural world and innovative stormwater initiatives. This Webinar series is hosted in conjunction with the Wisconsin, Minnesota, and Illinois Stormwater Committees. Advanced registration is required. Up to 2.4 PDHs and 2 CEUs will be offered.<br />
<br />
For more course information, contact Anna Sadowski (<a href="mailto:Anna.Sadowski@strand.com?subject=CSWEA%20Stormwater%20Webinar"><span style="color:#0000FF">Anna.Sadowski@strand.com</span></a>) or Ashley Leisgang (<a href="mailto:ashley.leisgang@aecom.com?subject=CSWEA%20Stormwater%20Webinar"><span style="color:#0000FF">ashley.leisgang@aecom.com</span></a>).<br />
<br />
<br />
<strong>Fees for attendance are as follows.</strong><br />
Member&nbsp;&nbsp; &nbsp;&nbsp;&nbsp; &nbsp; $30 (Discount Code: &nbsp;CSWEA)<br />
Non-Member &nbsp;$35<br />
Student&nbsp;&nbsp; &nbsp;&nbsp;&nbsp; &nbsp; $10 (Discount Code: &nbsp;Student)<br />
International &nbsp; $10 (Discount Code: &nbsp;International)<br />
<br />
<strong><a href="https://www.cswea.org/docs/CSWEA-Watershed-Stormwater-Webinar-Announcement-2026.pdf" target="_blank"><span style="color:#0000FF">Agenda</span></a><span style="color:#0000FF"> | </span><a href="https://attendee.gotowebinar.com/register/7492121060921612632" target="_blank"><span style="color:#0000FF">Click Here to Register</span></a></strong><br />Location:<br />https://attendee.gotowebinar.com/register/7492121060921612632<br /><br />,  
PRIORITY:3
TRANSP:TRANSPARENT
BEGIN:VALARM
TRIGGER:-PT5M
ACTION:DISPLAY
DESCRIPTION:Reminder
END:VALARM
END:VEVENT
END:VCALENDAR
