BEGIN:VCALENDAR
VERSION:2.0
CALSCALE:GREGORIAN
METHOD:PUBLISH
PRODID://CNTW//478248
BEGIN:VEVENT
DTSTAMP:20260421T183147
VTIMEZONE:America/Chicago
DTSTART:20260225T210000Z
DTEND:20260225T220000Z
UID:478248
SUMMARY:2026 WI Section Meeting
LOCATION:
DESCRIPTION:2026 WI Section Meeting\n\n02/25/26 03:00 PM CST\n - 02/25/26 04:00 PM CST\Description:\nSAVE THE DATE!\n\nWednesday, February 25th, 2026\n3:00 - 4:00 pm\n \nJoin the meeting now\n\nMeeting ID: 257 630 892 191 84\n\nPasscode: Jz9VZ69q\n \n\nDial in by phone\n\n+1 469-998-7597\n\nFind a local number\n\n\nPhone conference ID: 962 785 341#\n\n
X-ALT-DESC;FMTTYPE=text/html:2026 WI Section Meeting<br /><br />02/25/26 03:00 PM CST - 02/25/26 04:00 PM CST<br />Description:<br /><strong><span style="color:#FF0000">SAVE THE DATE!</span><br />
<br />
Wednesday, February 25th, 2026<br />
3:00 - 4:00 pm</strong><br />
&nbsp;
<div><a data-saferedirecturl="https://www.google.com/url?q=https://teams.microsoft.com/l/meetup-join/19%253ameeting_MjJhZjAyOTgtM2M4NS00MDA0LTlkMTctYjNiMzZkMGJjZjg0%2540thread.v2/0?context%3D%257b%2522Tid%2522%253a%252241803075-2931-4eff-a1f1-cfa2621ba492%2522%252c%2522Oid%2522%253a%2522acf530db-6323-43d3-8051-699adc2a01c8%2522%257d&amp;source=gmail&amp;ust=1767899518355000&amp;usg=AOvVaw1XVPh-H0m1KMZqJwNVk_n4" href="https://teams.microsoft.com/l/meetup-join/19%3ameeting_MjJhZjAyOTgtM2M4NS00MDA0LTlkMTctYjNiMzZkMGJjZjg0%40thread.v2/0?context=%7b%22Tid%22%3a%2241803075-2931-4eff-a1f1-cfa2621ba492%22%2c%22Oid%22%3a%22acf530db-6323-43d3-8051-699adc2a01c8%22%7d" target="_blank" title="Meeting join link"><span style="color:#0000FF"><strong>Join the meeting now</strong></span></a></div>

<div>Meeting ID:&nbsp;257 630 892 191 84</div>

<div>Passcode:&nbsp;Jz9VZ69q<br />
&nbsp;
<div>
<div><strong>Dial in by phone</strong></div>

<div><a href="tel:+14699987597,,962785341" target="_blank"><span style="color:#0000FF">+1 469-998-7597</span></a></div>

<div><a data-saferedirecturl="https://www.google.com/url?q=https://dialin.teams.microsoft.com/5fbe2586-9793-4d9b-89d1-40a045b0afc8?id%3D962785341&amp;source=gmail&amp;ust=1767899518355000&amp;usg=AOvVaw0XlM8gwkDg7up_-DHioRqP" href="https://dialin.teams.microsoft.com/5fbe2586-9793-4d9b-89d1-40a045b0afc8?id=962785341" target="_blank"><span style="color:#0000FF">Find a local number</span></a></div>
</div>

<div>Phone conference ID:&nbsp;962 785 341#</div>
</div>

PRIORITY:3
TRANSP:TRANSPARENT
BEGIN:VALARM
TRIGGER:-PT5M
ACTION:DISPLAY
DESCRIPTION:Reminder
END:VALARM
END:VEVENT
END:VCALENDAR
