BEGIN:VCALENDAR
VERSION:2.0
CALSCALE:GREGORIAN
METHOD:PUBLISH
PRODID://CNTW//485161
BEGIN:VEVENT
DTSTAMP:20260421T142251
VTIMEZONE:America/Chicago
DTSTART:20260210T130000Z
DTEND:20260210T134500Z
UID:485161
SUMMARY:MN Section Meeting
LOCATION:River's Edge Convention Center, 10 4th Ave S, St. Cloud, MN, 56301
DESCRIPTION:MN Section Meeting\n\n02/10/26 07:00 AM CST\n - 02/10/26 07:45 AM CST\Description:\nFebruary 10th, 2026, 7:00 - 7:45am\n\nRiver’s Edge Convention Center\n10 4th Ave S, St. Cloud, MN 56301\n\nPlease join us at the MN Section meeting on February 10 th . Everyone is welcome! The meeting agenda includes officer reports, updates from committees, discussion of\nbusiness items, and open discussion time. This is an excellent opportunity to learn more about the organization and share ideas.\n\nThe meeting will be held in the Wilson Suite, before the Innovative Conference. A virtual meeting invitation will be sent out shortly. Please reach out to your committee chair or\nWill Martin at wmartin@hazenandsawyer.com if you would like to attend virtually and didn’t get the invite.\n\nHope to see you there!\Location:\nRiver's Edge Convention Center\n10 4th Ave S\nSt. Cloud, MN 56301
X-ALT-DESC;FMTTYPE=text/html:MN Section Meeting<br /><br />02/10/26 07:00 AM CST - 02/10/26 07:45 AM CST<br />Description:<br /><strong>February 10th, 2026, 7:00 - 7:45am<br />
<br />
River&rsquo;s Edge Convention Center<br />
10 4th Ave S, St. Cloud, MN 56301</strong><br />
<br />
Please join us at the MN Section meeting on February 10 th . Everyone is welcome! The meeting agenda includes officer reports, updates from committees, discussion of<br />
business items, and open discussion time. This is an excellent opportunity to learn more about the organization and share ideas.<br />
<br />
The meeting will be held in the Wilson Suite, before the Innovative Conference. A virtual meeting invitation will be sent out shortly. Please reach out to your committee chair or<br />
Will Martin at <a href="mailto:wmartin@hazenandsawyer.com" target="_blank"><span style="color:#0000FF">wmartin@hazenandsawyer.com</span></a> if you would like to attend virtually and didn&rsquo;t get the invite.<br />
<br />
Hope to see you there!<br />Location:<br />River's Edge Convention Center<br />10 4th Ave S<br />St. Cloud, MN 56301
PRIORITY:3
TRANSP:TRANSPARENT
BEGIN:VALARM
TRIGGER:-PT5M
ACTION:DISPLAY
DESCRIPTION:Reminder
END:VALARM
END:VEVENT
END:VCALENDAR
