BEGIN:VCALENDAR
VERSION:2.0
CALSCALE:GREGORIAN
METHOD:PUBLISH
PRODID://CNTW//485163
BEGIN:VEVENT
DTSTAMP:20260421T142319
VTIMEZONE:America/Chicago
DTSTART:20260317T130000Z
DTEND:20260317T203000Z
UID:485163
SUMMARY:Spring Biosolids Symposium 2026
LOCATION:Holiday Inn Hotel & Convention Center, 1001 Amber Avenue, Stevens Point, WI, 54481
DESCRIPTION:Spring Biosolids Symposium 2026\n\n03/17/26 08:00 AM CST\n - 03/17/26 03:30 PM CST\Description:\nTuesday, March 17, 2026\n\nHoliday Inn Hotel & Convention Center\n1001 Amber Avenue, Stevens Point, WI 54481\n\nRegistration fees:\nOn/Before Mach 11th: $90\nAfter March 11th: $100\n\nInfo | Registration\n\nA block of rooms will be held at the Holiday Inn until February 14, 2026 or until the block is full for $125.99 Standard Room Rate.\nMake your reservations directly at (715) 344-0200 and press #1.\nPlease reference the group name WI Wastewater Operators Assn. Use group block code: BIO.\n\nHotel Reservations\Location:\nHoliday Inn Hotel & Convention Center\n1001 Amber Avenue\nStevens Point, WI 54481
X-ALT-DESC;FMTTYPE=text/html:Spring Biosolids Symposium 2026<br /><br />03/17/26 08:00 AM CST - 03/17/26 03:30 PM CST<br />Description:<br /><strong>Tuesday, March 17, 2026<br />
<br />
Holiday Inn Hotel &amp; Convention Center<br />
1001 Amber Avenue, Stevens Point, WI 54481<br />
<br />
Registration fees:<br />
On/Before Mach 11th:</strong>&nbsp;$90<br />
<strong>After&nbsp;March 11th:</strong>&nbsp;$100<br />
<br />
<strong><a href="https://www.wwoa.org/events-awards/spring-biosolids-2026" target="_blank"><span style="color:#0000FF">Info</span></a><span style="color:#0000FF"> | </span><a href="https://www.wwoa.org/component/civicrm/?task=civicrm/event/register&amp;reset=1&amp;id=106" target="_blank"><span style="color:#0000FF">Registration</span></a></strong><br />
<br />
A block of rooms will be held at the Holiday Inn until February 14, 2026 or until the block is full for $125.99 Standard Room Rate.<br />
Make your reservations directly at (715) 344-0200 and press #1.<br />
Please reference the group name WI Wastewater Operators Assn. Use group block code: BIO.<br />
<br />
<a href="https://www.ihg.com/holidayinn/hotels/us/en/find-hotels/select-roomrate?fromRedirect=true&amp;qSrt=sBR&amp;qIta=99801505&amp;icdv=99801505&amp;qSlH=STEAA&amp;qCiD=16&amp;qCiMy=022026&amp;qCoD=17&amp;qCoMy=022026&amp;qGrpCd=BIO&amp;setPMCookies=true&amp;qSHBrC=HI&amp;qDest=1001%20Amber%20Avenue,%20Stevens%20Point,%20WI,%20US&amp;srb_u=1&amp;qRmFltr=" target="_blank"><span style="color:#0000FF"><strong>Hotel Reservations</strong></span></a><br />Location:<br />Holiday Inn Hotel & Convention Center<br />1001 Amber Avenue<br />Stevens Point, WI 54481
PRIORITY:3
TRANSP:TRANSPARENT
BEGIN:VALARM
TRIGGER:-PT5M
ACTION:DISPLAY
DESCRIPTION:Reminder
END:VALARM
END:VEVENT
END:VCALENDAR
