BEGIN:VCALENDAR
VERSION:2.0
CALSCALE:GREGORIAN
METHOD:PUBLISH
PRODID://CNTW//485484
BEGIN:VEVENT
DTSTAMP:20260421T155223
VTIMEZONE:America/Chicago
DTSTART:20260211T160000Z
DTEND:20260211T173000Z
UID:485484
SUMMARY:Operator Training Webinar - Fundamentals of Preliminary & Primary Treatment
LOCATION:
DESCRIPTION:Operator Training Webinar - Fundamentals of Preliminary & Primary Treatment\n\n02/11/26 10:00 AM CST\n - 02/11/26 11:30 AM CST\Description:\nWednesday, February 11th, 2026\n10:00 AM to 11:30 AM\n\nThe path of wastewater is a long and winding one, beginning at its source (domestic, commercial, and industrial) and ending with its clean, safe return to surface water or groundwater where it can take its place in the hydrological cycle. This course picks up the journey of wastewater as it arrives at the plant (influent). The treatment of wastewater includes many crucial components. Improper, ineffective, inefficient handling of influent leads to a multitude of problems as the process continues. This course examines many of the hurdles that must be overcome (the what, when and how) and provides strategies and tools necessary to address those hurdles.\n\nTOPICS COVERED\n\n	Characteristics of Wastewater\n	Screening\n	Grit Removal\n	Pre-Aeration\n	Primary Treatment\n	Primary and Secondary Clarifiers\n	Common Calculations\n\n\nCOST\n$35 – Members (Discount Code: CSWEA)\n$40 – Non-Members\n$10 – Student (Discount Code: Student)\n$10 – International (Discount Code: International)\n\nInfo | Register
X-ALT-DESC;FMTTYPE=text/html:Operator Training Webinar - Fundamentals of Preliminary & Primary Treatment<br /><br />02/11/26 10:00 AM CST - 02/11/26 11:30 AM CST<br />Description:<br /><strong>Wednesday, February 11th, 2026<br />
10:00 AM to 11:30 AM</strong><br />
<br />
The path of wastewater is a long and winding one, beginning at its source (domestic, commercial, and industrial) and ending with its clean, safe return to surface water or groundwater where it can take its place in the hydrological cycle. This course picks up the journey of wastewater as it arrives at the plant (influent). The treatment of wastewater includes many crucial components. Improper, ineffective, inefficient handling of influent leads to a multitude of problems as the process continues. This course examines many of the hurdles that must be overcome (the what, when and how) and provides strategies and tools necessary to address those hurdles.<br />
<br />
<strong>TOPICS COVERED</strong>
<ul>
	<li>Characteristics of Wastewater</li>
	<li>Screening</li>
	<li>Grit Removal</li>
	<li>Pre-Aeration</li>
	<li>Primary Treatment</li>
	<li>Primary and Secondary Clarifiers</li>
	<li>Common Calculations</li>
</ul>
<br />
<strong>COST<br />
$35 &ndash; Members (Discount Code: CSWEA)<br />
$40 &ndash; Non-Members<br />
$10 &ndash; Student (Discount Code: Student)<br />
$10 &ndash; International (Discount Code: International)</strong><br />
<br />
<strong><a href="https://www.cswea.org/docs/Fundamentals_Preliminary_Primary_2-11-26.pdf" target="_blank"><span style="color:#0000FF">Info</span></a> |&nbsp;<a href="https://attendee.gotowebinar.com/register/8300716207630823509" target="_blank"><span style="color:#0000FF">Register</span></a></strong>
PRIORITY:3
TRANSP:TRANSPARENT
BEGIN:VALARM
TRIGGER:-PT5M
ACTION:DISPLAY
DESCRIPTION:Reminder
END:VALARM
END:VEVENT
END:VCALENDAR
