BEGIN:VCALENDAR
VERSION:2.0
CALSCALE:GREGORIAN
METHOD:PUBLISH
PRODID://CNTW//485539
BEGIN:VEVENT
DTSTAMP:20260421T154139
VTIMEZONE:America/Chicago
DTSTART:20260210T131500Z
DTEND:20260210T220000Z
UID:485539
SUMMARY:2026 CSWEA/MWOA Innovative Conference
LOCATION:St. Cloud Rivers Edge Convention Center, 10 4th Ave S, St. Cloud, MN, 56301
DESCRIPTION:2026 CSWEA/MWOA Innovative Conference\n\n02/10/26 07:15 AM CST\n - 02/10/26 04:00 PM CST\Description:\nTuesday, February 10, 2026\nSt. Cloud River’s Edge Convention Center, 10 4th Ave S, St. Cloud, Minnesota 56301\n\n\nThe 43rd annual “Innovative Approaches to Wastewater Operations Conference” will be held February 10, 2026, at the St. Cloud River’s Edge Convention Center in St. Cloud, Minnesota. This conference is co-sponsored by the Minnesota Wastewater Operators Association and the Minnesota Section of the Central States Water Environment Association. These are two non-profit organizations dedicated to providing opportunities for educational growth to its members.\n\nSponsors: Info | Registration\nExhibitors: Info | Registration\nAttendees: Draft Agenda | Registration\Location:\nSt. Cloud Rivers Edge Convention Center\n10 4th Ave S\nSt. Cloud, MN 56301
X-ALT-DESC;FMTTYPE=text/html:2026 CSWEA/MWOA Innovative Conference<br /><br />02/10/26 07:15 AM CST - 02/10/26 04:00 PM CST<br />Description:<br /><strong>Tuesday, February 10, 2026<br />
St. Cloud River&rsquo;s Edge Convention Center, 10 4th Ave S, St. Cloud, Minnesota 56301</strong><br />
<br />
<br />
The 43rd annual &ldquo;Innovative Approaches to Wastewater Operations Conference&rdquo; will be held February 10, 2026, at the St. Cloud River&rsquo;s Edge Convention Center in St. Cloud, Minnesota. This conference is co-sponsored by the Minnesota Wastewater Operators Association and the Minnesota Section of the Central States Water Environment Association. These are two non-profit organizations dedicated to providing opportunities for educational growth to its members.<br />
<br />
<strong>Sponsors: </strong><strong><a href="https://www.cswea.org/docs/2026_Innovative_Sponsorship_Request.docx" target="_blank">Info</a> | <a href="https://members.cswea.org/members/evr/reg_event.php?orgcode=CNTW&amp;evid=60546113" target="_blank">Registration</a></strong><br />
<strong>Exhibitors: <a href="https://www.cswea.org/docs/2026_Innovative_Exhibitor_Request.docx" target="_blank">Info</a> | <a href="https://members.cswea.org/members/evr/reg_event.php?orgcode=CNTW&amp;evid=60546113" target="_blank">Registration</a><br />
Attendees: <a href="https://www.cswea.org/docs/2026_DRAFT_Innovative_Program.xlsx" target="_blank">Draft Agenda</a> | <a href="https://members.cswea.org/members/evr/reg_event.php?orgcode=CNTW&amp;evid=60546113" target="_blank">Registration</a></strong><br />Location:<br />St. Cloud Rivers Edge Convention Center<br />10 4th Ave S<br />St. Cloud, MN 56301
PRIORITY:3
TRANSP:TRANSPARENT
BEGIN:VALARM
TRIGGER:-PT5M
ACTION:DISPLAY
DESCRIPTION:Reminder
END:VALARM
END:VEVENT
END:VCALENDAR
