BEGIN:VCALENDAR
VERSION:2.0
CALSCALE:GREGORIAN
METHOD:PUBLISH
PRODID://CNTW//488082
BEGIN:VEVENT
DTSTAMP:20260421T113900
VTIMEZONE:America/Chicago
DTSTART:20260311T140000Z
DTEND:20260313T010000Z
UID:488082
SUMMARY:2026 IAWA Mini-Conference/IL Government Affairs Seminar
LOCATION:DoubleTree "President Abraham LincolnÂ Springfield", 701 E Adams St, Springfield, IL, 62701
DESCRIPTION:2026 IAWA Mini-Conference/IL Government Affairs Seminar\n\n03/11/26 09:00 AM CST\n - 03/12/26 08:00 PM CST\Description:\nMarch 10-12, 2026\n\nDouble Tree "President Abraham Lincoln Springfield"\n701 E Adams St, Springfield, IL, 62701\n\nThis year’s Mini-Conference is again a 3-day event. Central States Water Environment Association’s Illinois Governmental Affairs (CSWEA-IL’s Government Affairs) put together an additional half-day of government affairs programming from 9:00 a.m. – 11:30 a.m. on Wednesday, March 11th. We hope you will be able to join us on Tuesday night where we will meet in the Lincoln Room at the Presidential Abraham Lincoln Hotel for a “meet and greet” reception from 6 – 8 pm. \n\nThere is a fee of $70.00 if you are planning on attending Tuesday evening and the CSWEA’s program on Wednesday morning that will also include breakfast. We are offering a lunch on Wednesday between sessions. Click below for the agenda for IAWA (CSWEA's agenda will be forthcoming), registration form, and hotel link for sleeping rooms.\n\nThe cost of the Mini-Conference will be $149 again this year. Please complete and return the registration form to the IAWA office. \n\nIf you plan to stay overnight, you may make a hotel reservation by clicking the link below:\n\nHotel Reservations for Sleeping Rooms\n\nPlease note that the cut-off date is February 17, 2026 for hotel reservations.   \n\nIAWA Agenda | CSWEA-IL Agenda\nRegistration Form\Location:\nDoubleTree "President Abraham LincolnÂ Springfield"\n701 E Adams St\nSpringfield, IL 62701
X-ALT-DESC;FMTTYPE=text/html:2026 IAWA Mini-Conference/IL Government Affairs Seminar<br /><br />03/11/26 09:00 AM CST - 03/12/26 08:00 PM CST<br />Description:<br /><strong>March 10-12, 2026<br />
<br />
Double Tree &quot;President Abraham Lincoln&nbsp;Springfield&quot;<br />
701 E Adams St, Springfield, IL, 62701</strong><br />
<br />
This year&rsquo;s Mini-Conference is again a 3-day event.&nbsp;Central States Water Environment Association&rsquo;s Illinois Governmental Affairs (CSWEA-IL&rsquo;s Government Affairs) put together an<strong> additional half-day of government affairs programming from 9:00 a.m. &ndash; 11:30 a.m. on Wednesday, March 11th</strong>.&nbsp;We hope you will be able to join us on Tuesday night where we will meet in the Lincoln Room at the Presidential Abraham Lincoln Hotel for a <strong>&ldquo;meet and greet&rdquo; reception from 6 &ndash; 8 pm.</strong>&nbsp;<br />
<br />
<strong>There is a fee of $70.00</strong> if you are planning on attending Tuesday evening and the CSWEA&rsquo;s program on Wednesday morning that will also include breakfast.&nbsp;We are offering a lunch on Wednesday between sessions. Click below for the agenda for IAWA (CSWEA's agenda will be forthcoming), registration form, and hotel link for sleeping rooms.<br />
<br />
<strong>The cost of the Mini-Conference will be $149 again this year.&nbsp;Please complete and return the registration form to the IAWA office.&nbsp;</strong><br />
<br />
If you plan to stay overnight, you may make a hotel reservation by clicking the link below:<br />
<br />
<a href="https://www.hilton.com/en/attend-my-event/ilassociationofwastewateragencies/" target="_blank"><span style="color:#0000FF"><strong>Hotel Reservations for Sleeping Rooms</strong></span></a><br />
<br />
<strong><em>Please note that the cut-off date is February 17, 2026 for hotel reservations.&nbsp; &nbsp;<br />
<br />
<a href="https://www.cswea.org/docs/2026_IAWA_Mini_Conference_Agenda.doc" target="_blank"><span style="color:#0000FF">IAWA Agenda</span></a><span style="color:#0000FF"> | </span><a href="https://www.cswea.org/docs/AGENDA__-_2026_Govt_Aff.docx" target="_blank"><span style="color:#0000FF">CSWEA-IL Agenda</span></a><br />
<span style="font-size:18px"><a href="https://www.cswea.org/docs/2026_IAWA_MIni_and_IL_Gov_Aff_Registration_Form.docx" target="_blank"><span style="color:#0000FF">Registration Form</span></a></span></em></strong><br />Location:<br />DoubleTree "President Abraham LincolnÂ Springfield"<br />701 E Adams St<br />Springfield, IL 62701
PRIORITY:3
TRANSP:TRANSPARENT
BEGIN:VALARM
TRIGGER:-PT5M
ACTION:DISPLAY
DESCRIPTION:Reminder
END:VALARM
END:VEVENT
END:VCALENDAR
