BEGIN:VCALENDAR
VERSION:2.0
CALSCALE:GREGORIAN
METHOD:PUBLISH
PRODID://CNTW//490089
BEGIN:VEVENT
DTSTAMP:20260421T183434
VTIMEZONE:America/Chicago
DTSTART:20260224T173000Z
DTEND:20260224T183000Z
UID:490089
SUMMARY:"AI Without the Hype â€“ What Every Water  Professional Should Know" Webinar
LOCATION:
DESCRIPTION:"AI Without the Hype â€“ What Every Water  Professional Should Know" Webinar\n\n02/24/26 11:30 AM CST\n - 02/24/26 12:30 PM CST\Description:\n11:30 am to 12:30 pm\n\n1.0 CEUs for Operators in Illinois, Wisconsin and Minnesota. Operator ID/Quiz required for webinar.\n1.2 PDHs for all Professional Engineers\n\nAI is everywhere—but in the water sector, utility professionals need clarity, not buzzwords. This presentation cuts through the noise to explain, in practical and accessible terms, what artificial intelligence actually is, why it’s becoming useful in water and wastewater operations, and how it is designed, calibrated, and validated to\nbe accurate and trustworthy.\n\nAttendees will walk away with a grounded understanding of AI, realistic expectations, and practical examples of how it can support—and not disrupt—the important work of managing water systems.\n\nAgenda:\n11:30 Introduction – CSWEA Illinois Section Laboratory-Pretreatment Committee\nEduardo Gasca/Mary Dressel | Committee Co-Chairs\n\n11:35 “AI Without the Hype - What Every Water Professional Should Know”\nYoko Koyama, PE, Machine Learning Innovation Lead at Carollo\nJennifer Steffens, PE, Vice President and Director of Digital Water at Carollo\n\n12:25 “Question/Answers” Moderated by\nRebekah Schulenberg | Committee Member\n\n12:30 Adjourn\n\nCost:\n$25 – Members (Discount Code: CSWEA)\n$35 – Non-Members\n$10 – Student (Discount Code: Student)\n$10 – International (Discount Code: International\n\nClick Here to Register\n\nSpeakers:\nYoko Koyama, PE is Carollo’s Machine Learning Innovation Lead, specializing in advanced modeling and data analytics for water and\nwastewater systems. She brings deep expertise in applying machine learning to operational and planning challenges across the water sector,\nwith recent work focused on generative AI and scaling desktop-based ML models into production environments through MLOps. An\nexperienced science communicator, Yoko is a frequent speaker at national and regional conferences, where she translates complex ML\nconcepts into practical insights for utility and engineering audiences.\n\nJennifer Steffens, PE is Vice President and Director of Digital Water at Carollo, where she leads digital strategy and advanced analytics\ninitiatives for water and wastewater utilities. With over two decades of experience, she specializes in translating digital technologies—such as\ndecision-support systems, digital twins, and AI-enabled analytics—into practical, operations-focused solutions. Jennifer is a frequent speaker\nat national conferences and is recognized for bridging engineering, operations, and technology to deliver measurable outcomes for utilities.
X-ALT-DESC;FMTTYPE=text/html:"AI Without the Hype â€“ What Every Water  Professional Should Know" Webinar<br /><br />02/24/26 11:30 AM CST - 02/24/26 12:30 PM CST<br />Description:<br /><strong>11:30 am to 12:30 pm<br />
<br />
1.0 CEUs </strong>for Operators in Illinois, Wisconsin and&nbsp;Minnesota. Operator ID/Quiz required for webinar.<br />
<strong>1.2 PDHs</strong> for all Professional Engineers<br />
<br />
AI is everywhere&mdash;but in the water sector, utility professionals need clarity, not buzzwords. This presentation cuts through the noise to explain, in practical and accessible terms, what artificial intelligence actually is, why it&rsquo;s becoming useful in water and wastewater operations, and how it is designed, calibrated, and validated to<br />
be accurate and trustworthy.<br />
<br />
Attendees will walk away with a grounded understanding of AI, realistic expectations, and practical examples of how it can support&mdash;and not disrupt&mdash;the important work of managing water systems.<br />
<br />
<strong>Agenda:</strong><br />
<strong>11:30 Introduction</strong> <strong>&ndash; CSWEA Illinois Section Laboratory-Pretreatment Committee</strong><br />
<em>Eduardo Gasca/Mary Dressel | Committee Co-Chairs</em><br />
<br />
<strong>11:35 &ldquo;AI Without the Hype - What Every Water Professional Should Know&rdquo;</strong><br />
<em>Yoko Koyama, PE, Machine Learning Innovation Lead at Carollo<br />
Jennifer Steffens, PE, Vice President and Director of Digital Water at Carollo</em><br />
<br />
<strong>12:25 &ldquo;Question/Answers&rdquo; Moderated by</strong><br />
<em>Rebekah Schulenberg | Committee Member</em><br />
<br />
<strong>12:30 Adjourn</strong><br />
<br />
<strong>Cost:</strong><br />
$25 &ndash; Members (Discount Code: CSWEA)<br />
$35 &ndash; Non-Members<br />
$10 &ndash; Student (Discount Code: Student)<br />
$10 &ndash; International (Discount Code: International<br />
<br />
<strong><a href="https://register.gotowebinar.com/register/9054617246269959257" target="_blank"><span style="color:#0000FF">Click Here to Register</span></a></strong><br />
<br />
<strong>Speakers:</strong><br />
<strong>Yoko Koyama, PE </strong>is Carollo&rsquo;s Machine Learning Innovation Lead, specializing in advanced modeling and data analytics for water and<br />
wastewater systems. She brings deep expertise in applying machine learning to operational and planning challenges across the water sector,<br />
with recent work focused on generative AI and scaling desktop-based ML models into production environments through MLOps. An<br />
experienced science communicator, Yoko is a frequent speaker at national and regional conferences, where she translates complex ML<br />
concepts into practical insights for utility and engineering audiences.<br />
<br />
<strong>Jennifer Steffens, PE </strong>is Vice President and Director of Digital Water at Carollo, where she leads digital strategy and advanced analytics<br />
initiatives for water and wastewater utilities. With over two decades of experience, she specializes in translating digital technologies&mdash;such as<br />
decision-support systems, digital twins, and AI-enabled analytics&mdash;into practical, operations-focused solutions. Jennifer is a frequent speaker<br />
at national conferences and is recognized for bridging engineering, operations, and technology to deliver measurable outcomes for utilities.
PRIORITY:3
TRANSP:TRANSPARENT
BEGIN:VALARM
TRIGGER:-PT5M
ACTION:DISPLAY
DESCRIPTION:Reminder
END:VALARM
END:VEVENT
END:VCALENDAR
