BEGIN:VCALENDAR
VERSION:2.0
CALSCALE:GREGORIAN
METHOD:PUBLISH
PRODID://CNTW//501791
BEGIN:VEVENT
DTSTAMP:20260421T125928
VTIMEZONE:America/Chicago
DTSTART:20260416T130000Z
DTEND:20260416T211500Z
UID:501791
SUMMARY:2026 CSWEA Education Seminar: From Small Plants to Big Challenges: Nutrient Removal, Controls, and Evolving Regulations
LOCATION:Monona Terrace, 1 John Nolen Drive, Madison, WI, 53703
DESCRIPTION:2026 CSWEA Education Seminar: From Small Plants to Big Challenges: Nutrient Removal, Controls, and Evolving Regulations\n\n04/16/26 08:00 AM CST\n - 04/16/26 04:15 PM CST\Description:\nREGISTRATION NOW OPEN!\n\nThursday, April 16th, 2026\nMonona Terrace, 1 John Nolen Drive, Madison, WI\n\nInfo & Agenda | Register\n\nHotel Bookings\nBest Western | Hilton\n \Location:\nMonona Terrace\n1 John Nolen Drive\nMadison, WI 53703
X-ALT-DESC;FMTTYPE=text/html:2026 CSWEA Education Seminar: From Small Plants to Big Challenges: Nutrient Removal, Controls, and Evolving Regulations<br /><br />04/16/26 08:00 AM CST - 04/16/26 04:15 PM CST<br />Description:<br /><strong><span style="color:#FF0000">REGISTRATION NOW OPEN!</span><br />
<br />
Thursday, April 16th, 2026<br />
Monona Terrace, 1 John Nolen Drive, Madison, WI</strong><br />
<br />
<strong><a href="https://www.cswea.org/docs/2026_CSWEA_Education_Brochure-4.pdf" target="_blank"><span style="color:#0000CD">Info &amp; Agenda</span></a></strong> | <strong><a href="https://members.cswea.org/members/evr/reg_main.php?orgcode=CNTW&amp;evid=61925751" target="_blank"><span style="color:#0000CD">Register</span></a><br />
<br />
Hotel Bookings<br />
<a href="https://www.bestwestern.com/en_US/book/hotel-rooms.50061.html?groupId=Q55WI9Z0" target="_blank"><span style="color:#0000FF">Best Western</span></a><span style="color:#0000FF"> </span>| <a href="https://www.hilton.com/en/book/reservation/rooms/?ctyhocn=MSNMHHF&amp;arrivalDate=2026-04-15&amp;departureDate=2026-04-16&amp;groupCode=903&amp;room1NumAdults=1&amp;cid=OM%2CWW%2CHILTONLINK%2CEN%2CDirectLink" target="_blank"><span style="color:#0000FF">Hilton</span></a></strong><br />
&nbsp;<br />Location:<br />Monona Terrace<br />1 John Nolen Drive<br />Madison, WI 53703
PRIORITY:3
TRANSP:TRANSPARENT
BEGIN:VALARM
TRIGGER:-PT5M
ACTION:DISPLAY
DESCRIPTION:Reminder
END:VALARM
END:VEVENT
END:VCALENDAR
